BEGIN:VCALENDAR
VERSION:2.0
PRODID:-//Elmshorner Ruder-Club v. 1909 - ECPv6.15.20//NONSGML v1.0//EN
CALSCALE:GREGORIAN
METHOD:PUBLISH
X-WR-CALNAME:Elmshorner Ruder-Club v. 1909
X-ORIGINAL-URL:https://www.erc09.de
X-WR-CALDESC:Veranstaltungen für Elmshorner Ruder-Club v. 1909
REFRESH-INTERVAL;VALUE=DURATION:PT1H
X-Robots-Tag:noindex
X-PUBLISHED-TTL:PT1H
BEGIN:VTIMEZONE
TZID:Europe/Berlin
BEGIN:DAYLIGHT
TZOFFSETFROM:+0100
TZOFFSETTO:+0200
TZNAME:CEST
DTSTART:20250330T010000
END:DAYLIGHT
BEGIN:STANDARD
TZOFFSETFROM:+0200
TZOFFSETTO:+0100
TZNAME:CET
DTSTART:20251026T010000
END:STANDARD
BEGIN:DAYLIGHT
TZOFFSETFROM:+0100
TZOFFSETTO:+0200
TZNAME:CEST
DTSTART:20260329T010000
END:DAYLIGHT
BEGIN:STANDARD
TZOFFSETFROM:+0200
TZOFFSETTO:+0100
TZNAME:CET
DTSTART:20261025T010000
END:STANDARD
BEGIN:DAYLIGHT
TZOFFSETFROM:+0100
TZOFFSETTO:+0200
TZNAME:CEST
DTSTART:20270328T010000
END:DAYLIGHT
BEGIN:STANDARD
TZOFFSETFROM:+0200
TZOFFSETTO:+0100
TZNAME:CET
DTSTART:20271031T010000
END:STANDARD
END:VTIMEZONE
BEGIN:VEVENT
DTSTART;TZID=Europe/Berlin:20260601T052500
DTEND;TZID=Europe/Berlin:20260601T052500
DTSTAMP:20260425T163740
CREATED:20251231T090454Z
LAST-MODIFIED:20251231T173137Z
UID:28913-1780291500-1780291500@www.erc09.de
SUMMARY:Hochwasser
DESCRIPTION:Hochwasserzeiten für den Elmshorner Hafen Quelle: Bundesamt für Seeschifffahrt und Hydrographie (BSH)
URL:https://www.erc09.de/termin/hochwasser-2371/
CATEGORIES:Hochwasser
END:VEVENT
BEGIN:VEVENT
DTSTART;TZID=Europe/Berlin:20260601T150000
DTEND;TZID=Europe/Berlin:20260601T180000
DTSTAMP:20260425T163740
CREATED:20260410T194310Z
LAST-MODIFIED:20260410T194544Z
UID:30933-1780326000-1780336800@www.erc09.de
SUMMARY:Jugendrudertermin (alle Jg.)
DESCRIPTION:Weitere Infos zu den Terminen gibt es bei den Jugendbetreuern unter jugendsport@erc09.de.
URL:https://www.erc09.de/termin/jugendrudertermin-alle-jg-13/
CATEGORIES:Jugend
END:VEVENT
BEGIN:VEVENT
DTSTART;TZID=Europe/Berlin:20260601T153000
DTEND;TZID=Europe/Berlin:20260601T174000
DTSTAMP:20260425T163740
CREATED:20260102T094933Z
LAST-MODIFIED:20260102T104535Z
UID:30244-1780327800-1780335600@www.erc09.de
SUMMARY:Allgemeiner Rudertermin
DESCRIPTION:Die allgemeinen Rudertermine stellen Terminvorschläge dar und werden selbstständig organisiert.\nDie Erfahrung aus der Vergangenheit hat gezeigt\, dass der Ruderbetrieb auch ohne eine offizielle Stegaufsicht reibungslos funktioniert.\nFindet euch also vor Ort gerne zusammen und achtet darauf\, dass niemand bootlos am Steg stehen gelassen wird.\nFür weitere Fragen wendet euch gerne an das Team Freizeitsport (post@erc09.de)
URL:https://www.erc09.de/termin/allgemeiner-rudertermin-254/
LOCATION:Elmshorner Ruder-Club von 1909 e. V.\, Wisch 30\, Elmshorn\, Schleswig-Holstein\, 25336\, Deutschland
CATEGORIES:Freizeit
ORGANIZER;CN="Elmshorner Ruder-Club von 1909 e. V.":MAILTO:post@erc09.de
END:VEVENT
BEGIN:VEVENT
DTSTART;TZID=Europe/Berlin:20260601T174000
DTEND;TZID=Europe/Berlin:20260601T174000
DTSTAMP:20260425T163740
CREATED:20251231T162935Z
LAST-MODIFIED:20251231T173137Z
UID:29712-1780335600-1780335600@www.erc09.de
SUMMARY:Hochwasser
DESCRIPTION:Hochwasserzeiten für den Elmshorner Hafen Quelle: Bundesamt für Seeschifffahrt und Hydrographie (BSH)
URL:https://www.erc09.de/termin/hochwasser-2724/
CATEGORIES:Hochwasser
END:VEVENT
BEGIN:VEVENT
DTSTART;TZID=Europe/Berlin:20260602T060100
DTEND;TZID=Europe/Berlin:20260602T060100
DTSTAMP:20260425T163740
CREATED:20251231T090455Z
LAST-MODIFIED:20251231T173137Z
UID:28914-1780380060-1780380060@www.erc09.de
SUMMARY:Hochwasser
DESCRIPTION:Hochwasserzeiten für den Elmshorner Hafen Quelle: Bundesamt für Seeschifffahrt und Hydrographie (BSH)
URL:https://www.erc09.de/termin/hochwasser-2372/
CATEGORIES:Hochwasser
END:VEVENT
BEGIN:VEVENT
DTSTART;TZID=Europe/Berlin:20260602T093000
DTEND;TZID=Europe/Berlin:20260602T110000
DTSTAMP:20260425T163740
CREATED:20251101T155600Z
LAST-MODIFIED:20251102T072600Z
UID:27966-1780392600-1780398000@www.erc09.de
SUMMARY:Training Senioren
DESCRIPTION:Weitere Infos unter post@erc09.de
URL:https://www.erc09.de/termin/training-senioren-31/
CATEGORIES:Freizeit
END:VEVENT
BEGIN:VEVENT
DTSTART;TZID=Europe/Berlin:20260602T160000
DTEND;TZID=Europe/Berlin:20260602T181100
DTSTAMP:20260425T163740
CREATED:20260102T094933Z
LAST-MODIFIED:20260102T104535Z
UID:30245-1780416000-1780423860@www.erc09.de
SUMMARY:Allgemeiner Rudertermin
DESCRIPTION:Die allgemeinen Rudertermine stellen Terminvorschläge dar und werden selbstständig organisiert.\nDie Erfahrung aus der Vergangenheit hat gezeigt\, dass der Ruderbetrieb auch ohne eine offizielle Stegaufsicht reibungslos funktioniert.\nFindet euch also vor Ort gerne zusammen und achtet darauf\, dass niemand bootlos am Steg stehen gelassen wird.\nFür weitere Fragen wendet euch gerne an das Team Freizeitsport (post@erc09.de)
URL:https://www.erc09.de/termin/allgemeiner-rudertermin-255/
LOCATION:Elmshorner Ruder-Club von 1909 e. V.\, Wisch 30\, Elmshorn\, Schleswig-Holstein\, 25336\, Deutschland
CATEGORIES:Freizeit
ORGANIZER;CN="Elmshorner Ruder-Club von 1909 e. V.":MAILTO:post@erc09.de
END:VEVENT
BEGIN:VEVENT
DTSTART;TZID=Europe/Berlin:20260602T163000
DTEND;TZID=Europe/Berlin:20260602T190000
DTSTAMP:20260425T163740
CREATED:20260412T171815Z
LAST-MODIFIED:20260412T171815Z
UID:31021-1780417800-1780426800@www.erc09.de
SUMMARY:Leistungssport Rudertermin
DESCRIPTION:Infos beim Team Leistungssport
URL:https://www.erc09.de/termin/leistungssport-rudertermin-10/
LOCATION:Elmshorner Ruder-Club von 1909 e. V.\, Wisch 30\, Elmshorn\, Schleswig-Holstein\, 25336\, Deutschland
CATEGORIES:Leistungssport
END:VEVENT
BEGIN:VEVENT
DTSTART;TZID=Europe/Berlin:20260602T181100
DTEND;TZID=Europe/Berlin:20260602T181100
DTSTAMP:20260425T163740
CREATED:20251231T162948Z
LAST-MODIFIED:20251231T173137Z
UID:29713-1780423860-1780423860@www.erc09.de
SUMMARY:Hochwasser
DESCRIPTION:Hochwasserzeiten für den Elmshorner Hafen Quelle: Bundesamt für Seeschifffahrt und Hydrographie (BSH)
URL:https://www.erc09.de/termin/hochwasser-2725/
CATEGORIES:Hochwasser
END:VEVENT
BEGIN:VEVENT
DTSTART;TZID=Europe/Berlin:20260602T193000
DTEND;TZID=Europe/Berlin:20260602T210000
DTSTAMP:20260425T163740
CREATED:20251101T160223Z
LAST-MODIFIED:20251102T072600Z
UID:28048-1780428600-1780434000@www.erc09.de
SUMMARY:offenes Training Herren
DESCRIPTION:Kraft- und Ergotraining  Weitere Infos unter post@erc09.de
URL:https://www.erc09.de/termin/offenes-training-herren-31/
CATEGORIES:Freizeit
END:VEVENT
BEGIN:VEVENT
DTSTART;TZID=Europe/Berlin:20260603T063400
DTEND;TZID=Europe/Berlin:20260603T063400
DTSTAMP:20260425T163740
CREATED:20251231T090455Z
LAST-MODIFIED:20251231T173137Z
UID:28915-1780468440-1780468440@www.erc09.de
SUMMARY:Hochwasser
DESCRIPTION:Hochwasserzeiten für den Elmshorner Hafen Quelle: Bundesamt für Seeschifffahrt und Hydrographie (BSH)
URL:https://www.erc09.de/termin/hochwasser-2373/
CATEGORIES:Hochwasser
END:VEVENT
BEGIN:VEVENT
DTSTART;TZID=Europe/Berlin:20260603T163000
DTEND;TZID=Europe/Berlin:20260603T184300
DTSTAMP:20260425T163740
CREATED:20260102T094933Z
LAST-MODIFIED:20260102T104535Z
UID:30246-1780504200-1780512180@www.erc09.de
SUMMARY:Allgemeiner Rudertermin
DESCRIPTION:Die allgemeinen Rudertermine stellen Terminvorschläge dar und werden selbstständig organisiert.\nDie Erfahrung aus der Vergangenheit hat gezeigt\, dass der Ruderbetrieb auch ohne eine offizielle Stegaufsicht reibungslos funktioniert.\nFindet euch also vor Ort gerne zusammen und achtet darauf\, dass niemand bootlos am Steg stehen gelassen wird.\nFür weitere Fragen wendet euch gerne an das Team Freizeitsport (post@erc09.de)
URL:https://www.erc09.de/termin/allgemeiner-rudertermin-256/
LOCATION:Elmshorner Ruder-Club von 1909 e. V.\, Wisch 30\, Elmshorn\, Schleswig-Holstein\, 25336\, Deutschland
CATEGORIES:Freizeit
ORGANIZER;CN="Elmshorner Ruder-Club von 1909 e. V.":MAILTO:post@erc09.de
END:VEVENT
BEGIN:VEVENT
DTSTART;TZID=Europe/Berlin:20260603T163000
DTEND;TZID=Europe/Berlin:20260603T193000
DTSTAMP:20260425T163740
CREATED:20260410T194310Z
LAST-MODIFIED:20260410T194544Z
UID:30934-1780504200-1780515000@www.erc09.de
SUMMARY:Jugendrudertermin (alle Jg.)
DESCRIPTION:Weitere Infos zu den Terminen gibt es bei den Jugendbetreuern unter jugendsport@erc09.de.
URL:https://www.erc09.de/termin/jugendrudertermin-alle-jg-14/
CATEGORIES:Jugend
END:VEVENT
BEGIN:VEVENT
DTSTART;TZID=Europe/Berlin:20260603T184300
DTEND;TZID=Europe/Berlin:20260603T184300
DTSTAMP:20260425T163740
CREATED:20251231T162949Z
LAST-MODIFIED:20251231T173137Z
UID:29714-1780512180-1780512180@www.erc09.de
SUMMARY:Hochwasser
DESCRIPTION:Hochwasserzeiten für den Elmshorner Hafen Quelle: Bundesamt für Seeschifffahrt und Hydrographie (BSH)
URL:https://www.erc09.de/termin/hochwasser-2726/
CATEGORIES:Hochwasser
END:VEVENT
BEGIN:VEVENT
DTSTART;TZID=Europe/Berlin:20260603T190000
DTEND;TZID=Europe/Berlin:20260603T203000
DTSTAMP:20260425T163740
CREATED:20260419T101644Z
LAST-MODIFIED:20260419T101644Z
UID:31046-1780513200-1780518600@www.erc09.de
SUMMARY:Offenes Training Damen
DESCRIPTION:
URL:https://www.erc09.de/termin/offenes-training-damen-28/
CATEGORIES:Allgemein
END:VEVENT
BEGIN:VEVENT
DTSTART;TZID=Europe/Berlin:20260604T070900
DTEND;TZID=Europe/Berlin:20260604T070900
DTSTAMP:20260425T163740
CREATED:20251231T090456Z
LAST-MODIFIED:20251231T173137Z
UID:28916-1780556940-1780556940@www.erc09.de
SUMMARY:Hochwasser
DESCRIPTION:Hochwasserzeiten für den Elmshorner Hafen Quelle: Bundesamt für Seeschifffahrt und Hydrographie (BSH)
URL:https://www.erc09.de/termin/hochwasser-2374/
CATEGORIES:Hochwasser
END:VEVENT
BEGIN:VEVENT
DTSTART;TZID=Europe/Berlin:20260604T170000
DTEND;TZID=Europe/Berlin:20260604T191600
DTSTAMP:20260425T163740
CREATED:20260102T095133Z
LAST-MODIFIED:20260102T104544Z
UID:30247-1780592400-1780600560@www.erc09.de
SUMMARY:Allgemeiner Rudertermin
DESCRIPTION:Die allgemeinen Rudertermine stellen Terminvorschläge dar und werden selbstständig organisiert.\nDie Erfahrung aus der Vergangenheit hat gezeigt\, dass der Ruderbetrieb auch ohne eine offizielle Stegaufsicht reibungslos funktioniert.\nFindet euch also vor Ort gerne zusammen und achtet darauf\, dass niemand bootlos am Steg stehen gelassen wird.\nFür weitere Fragen wendet euch gerne an das Team Freizeitsport (post@erc09.de)
URL:https://www.erc09.de/termin/allgemeiner-rudertermin-257/
LOCATION:Elmshorner Ruder-Club von 1909 e. V.\, Wisch 30\, Elmshorn\, Schleswig-Holstein\, 25336\, Deutschland
CATEGORIES:Freizeit
ORGANIZER;CN="Elmshorner Ruder-Club von 1909 e. V.":MAILTO:post@erc09.de
END:VEVENT
BEGIN:VEVENT
DTSTART;TZID=Europe/Berlin:20260604T173000
DTEND;TZID=Europe/Berlin:20260604T200000
DTSTAMP:20260425T163740
CREATED:20260412T171916Z
LAST-MODIFIED:20260412T171916Z
UID:31023-1780594200-1780603200@www.erc09.de
SUMMARY:Leistungssport Rudertermin
DESCRIPTION:Infos beim Team Leistungssport
URL:https://www.erc09.de/termin/leistungssport-rudertermin-11/
LOCATION:Elmshorner Ruder-Club von 1909 e. V.\, Wisch 30\, Elmshorn\, Schleswig-Holstein\, 25336\, Deutschland
CATEGORIES:Leistungssport
END:VEVENT
BEGIN:VEVENT
DTSTART;TZID=Europe/Berlin:20260604T191600
DTEND;TZID=Europe/Berlin:20260604T191600
DTSTAMP:20260425T163740
CREATED:20251231T162949Z
LAST-MODIFIED:20251231T173137Z
UID:29715-1780600560-1780600560@www.erc09.de
SUMMARY:Hochwasser
DESCRIPTION:Hochwasserzeiten für den Elmshorner Hafen Quelle: Bundesamt für Seeschifffahrt und Hydrographie (BSH)
URL:https://www.erc09.de/termin/hochwasser-2727/
CATEGORIES:Hochwasser
END:VEVENT
BEGIN:VEVENT
DTSTART;TZID=Europe/Berlin:20260604T193000
DTEND;TZID=Europe/Berlin:20260604T213000
DTSTAMP:20260425T163740
CREATED:20251101T162827Z
LAST-MODIFIED:20251102T072600Z
UID:28198-1780601400-1780608600@www.erc09.de
SUMMARY:Training Masters
DESCRIPTION:Kraft- und Ergotraining  Weitere Infos unter post@erc09.de
URL:https://www.erc09.de/termin/training-masters-31/
CATEGORIES:Freizeit
END:VEVENT
BEGIN:VEVENT
DTSTART;VALUE=DATE:20260605
DTEND;VALUE=DATE:20260608
DTSTAMP:20260425T163740
CREATED:20250910T132314Z
LAST-MODIFIED:20250910T132314Z
UID:27643-1780617600-1780876799@www.erc09.de
SUMMARY:Juniorenregatta Hamburg
DESCRIPTION:Weitere Infos beim Team Leistungssport
URL:https://www.erc09.de/termin/juniorenregatta-hamburg/
LOCATION:Regattastrecke Hamburg-Allermöhe\, Allermöher Deich 36\, Hamburg\, 21037
CATEGORIES:Regatta
END:VEVENT
BEGIN:VEVENT
DTSTART;TZID=Europe/Berlin:20260605T074500
DTEND;TZID=Europe/Berlin:20260605T074500
DTSTAMP:20260425T163740
CREATED:20251231T090508Z
LAST-MODIFIED:20251231T173137Z
UID:28917-1780645500-1780645500@www.erc09.de
SUMMARY:Hochwasser
DESCRIPTION:Hochwasserzeiten für den Elmshorner Hafen Quelle: Bundesamt für Seeschifffahrt und Hydrographie (BSH)
URL:https://www.erc09.de/termin/hochwasser-2375/
CATEGORIES:Hochwasser
END:VEVENT
BEGIN:VEVENT
DTSTART;TZID=Europe/Berlin:20260605T173000
DTEND;TZID=Europe/Berlin:20260605T195000
DTSTAMP:20260425T163740
CREATED:20260102T095133Z
LAST-MODIFIED:20260102T104544Z
UID:30248-1780680600-1780689000@www.erc09.de
SUMMARY:Allgemeiner Rudertermin
DESCRIPTION:Die allgemeinen Rudertermine stellen Terminvorschläge dar und werden selbstständig organisiert.\nDie Erfahrung aus der Vergangenheit hat gezeigt\, dass der Ruderbetrieb auch ohne eine offizielle Stegaufsicht reibungslos funktioniert.\nFindet euch also vor Ort gerne zusammen und achtet darauf\, dass niemand bootlos am Steg stehen gelassen wird.\nFür weitere Fragen wendet euch gerne an das Team Freizeitsport (post@erc09.de)
URL:https://www.erc09.de/termin/allgemeiner-rudertermin-258/
LOCATION:Elmshorner Ruder-Club von 1909 e. V.\, Wisch 30\, Elmshorn\, Schleswig-Holstein\, 25336\, Deutschland
CATEGORIES:Freizeit
ORGANIZER;CN="Elmshorner Ruder-Club von 1909 e. V.":MAILTO:post@erc09.de
END:VEVENT
BEGIN:VEVENT
DTSTART;TZID=Europe/Berlin:20260605T173000
DTEND;TZID=Europe/Berlin:20260605T203000
DTSTAMP:20260425T163740
CREATED:20260410T194318Z
LAST-MODIFIED:20260410T194544Z
UID:30935-1780680600-1780691400@www.erc09.de
SUMMARY:Jugendrudertermin (alle Jg.)
DESCRIPTION:Weitere Infos zu den Terminen gibt es bei den Jugendbetreuern unter jugendsport@erc09.de.
URL:https://www.erc09.de/termin/jugendrudertermin-alle-jg-15/
CATEGORIES:Jugend
END:VEVENT
BEGIN:VEVENT
DTSTART;TZID=Europe/Berlin:20260605T195000
DTEND;TZID=Europe/Berlin:20260605T195000
DTSTAMP:20260425T163740
CREATED:20251231T162950Z
LAST-MODIFIED:20251231T173137Z
UID:29716-1780689000-1780689000@www.erc09.de
SUMMARY:Hochwasser
DESCRIPTION:Hochwasserzeiten für den Elmshorner Hafen Quelle: Bundesamt für Seeschifffahrt und Hydrographie (BSH)
URL:https://www.erc09.de/termin/hochwasser-2728/
CATEGORIES:Hochwasser
END:VEVENT
BEGIN:VEVENT
DTSTART;TZID=Europe/Berlin:20260605T203000
DTEND;TZID=Europe/Berlin:20260606T090000
DTSTAMP:20260425T163740
CREATED:20260410T194403Z
LAST-MODIFIED:20260410T194553Z
UID:30956-1780691400-1780736400@www.erc09.de
SUMMARY:Kochen und Movienight
DESCRIPTION:Weitere Infos zu den Jugendveranstaltungen gibt es beim Jugendvorstand.
URL:https://www.erc09.de/termin/kochen-und-movienight/
CATEGORIES:Jugend
END:VEVENT
BEGIN:VEVENT
DTSTART;TZID=Europe/Berlin:20260606T080000
DTEND;TZID=Europe/Berlin:20260606T190000
DTSTAMP:20260425T163740
CREATED:20260315T154237Z
LAST-MODIFIED:20260315T183625Z
UID:30841-1780732800-1780772400@www.erc09.de
SUMMARY:Elbtour Elbe abwärts
DESCRIPTION: 
URL:https://www.erc09.de/termin/elbtour-elbe-abwaerts/
LOCATION:Elmshorner Ruder-Club von 1909 e. V.\, Wisch 30\, Elmshorn\, Schleswig-Holstein\, 25336\, Deutschland
CATEGORIES:Fahrten
ORGANIZER;CN="Elmshorner Ruder-Club von 1909 e. V.":MAILTO:post@erc09.de
END:VEVENT
BEGIN:VEVENT
DTSTART;TZID=Europe/Berlin:20260606T082200
DTEND;TZID=Europe/Berlin:20260606T082200
DTSTAMP:20260425T163740
CREATED:20251231T090509Z
LAST-MODIFIED:20251231T173137Z
UID:28918-1780734120-1780734120@www.erc09.de
SUMMARY:Hochwasser
DESCRIPTION:Hochwasserzeiten für den Elmshorner Hafen Quelle: Bundesamt für Seeschifffahrt und Hydrographie (BSH)
URL:https://www.erc09.de/termin/hochwasser-2376/
CATEGORIES:Hochwasser
END:VEVENT
BEGIN:VEVENT
DTSTART;TZID=Europe/Berlin:20260606T180000
DTEND;TZID=Europe/Berlin:20260606T202800
DTSTAMP:20260425T163740
CREATED:20260102T095133Z
LAST-MODIFIED:20260102T104544Z
UID:30249-1780768800-1780777680@www.erc09.de
SUMMARY:Allgemeiner Rudertermin
DESCRIPTION:Die allgemeinen Rudertermine stellen Terminvorschläge dar und werden selbstständig organisiert.\nDie Erfahrung aus der Vergangenheit hat gezeigt\, dass der Ruderbetrieb auch ohne eine offizielle Stegaufsicht reibungslos funktioniert.\nFindet euch also vor Ort gerne zusammen und achtet darauf\, dass niemand bootlos am Steg stehen gelassen wird.\nFür weitere Fragen wendet euch gerne an das Team Freizeitsport (post@erc09.de)
URL:https://www.erc09.de/termin/allgemeiner-rudertermin-259/
LOCATION:Elmshorner Ruder-Club von 1909 e. V.\, Wisch 30\, Elmshorn\, Schleswig-Holstein\, 25336\, Deutschland
CATEGORIES:Freizeit
ORGANIZER;CN="Elmshorner Ruder-Club von 1909 e. V.":MAILTO:post@erc09.de
END:VEVENT
BEGIN:VEVENT
DTSTART;TZID=Europe/Berlin:20260606T180000
DTEND;TZID=Europe/Berlin:20260606T210000
DTSTAMP:20260425T163740
CREATED:20260410T194318Z
LAST-MODIFIED:20260410T194544Z
UID:30936-1780768800-1780779600@www.erc09.de
SUMMARY:Jugendrudertermin (alle Jg.)
DESCRIPTION:Weitere Infos zu den Terminen gibt es bei den Jugendbetreuern unter jugendsport@erc09.de.
URL:https://www.erc09.de/termin/jugendrudertermin-alle-jg-16/
CATEGORIES:Jugend
END:VEVENT
END:VCALENDAR