BEGIN:VCALENDAR
VERSION:2.0
PRODID:-//Elmshorner Ruder-Club v. 1909 - ECPv6.15.20//NONSGML v1.0//EN
CALSCALE:GREGORIAN
METHOD:PUBLISH
X-ORIGINAL-URL:https://www.erc09.de
X-WR-CALDESC:Veranstaltungen für Elmshorner Ruder-Club v. 1909
REFRESH-INTERVAL;VALUE=DURATION:PT1H
X-Robots-Tag:noindex
X-PUBLISHED-TTL:PT1H
BEGIN:VTIMEZONE
TZID:Europe/Berlin
BEGIN:DAYLIGHT
TZOFFSETFROM:+0100
TZOFFSETTO:+0200
TZNAME:CEST
DTSTART:20250330T010000
END:DAYLIGHT
BEGIN:STANDARD
TZOFFSETFROM:+0200
TZOFFSETTO:+0100
TZNAME:CET
DTSTART:20251026T010000
END:STANDARD
BEGIN:DAYLIGHT
TZOFFSETFROM:+0100
TZOFFSETTO:+0200
TZNAME:CEST
DTSTART:20260329T010000
END:DAYLIGHT
BEGIN:STANDARD
TZOFFSETFROM:+0200
TZOFFSETTO:+0100
TZNAME:CET
DTSTART:20261025T010000
END:STANDARD
BEGIN:DAYLIGHT
TZOFFSETFROM:+0100
TZOFFSETTO:+0200
TZNAME:CEST
DTSTART:20270328T010000
END:DAYLIGHT
BEGIN:STANDARD
TZOFFSETFROM:+0200
TZOFFSETTO:+0100
TZNAME:CET
DTSTART:20271031T010000
END:STANDARD
END:VTIMEZONE
BEGIN:VEVENT
DTSTART;VALUE=DATE:20260228
DTEND;VALUE=DATE:20260302
DTSTAMP:20260419T223722
CREATED:20250910T131317Z
LAST-MODIFIED:20250910T131317Z
UID:27624-1772236800-1772409599@www.erc09.de
SUMMARY:TWE Lübeck
DESCRIPTION:Weitere Infos beim Team Leistungssport
URL:https://www.erc09.de/termin/twe-luebeck-4/
LOCATION:Lübecker Rudergesellschaft\, Hüxtertorallee 4\, Lübeck\, Schleswig-Holstein\, 23564\, Deutschland
CATEGORIES:Leistungssport
END:VEVENT
BEGIN:VEVENT
DTSTART;TZID=Europe/Berlin:20260301T014200
DTEND;TZID=Europe/Berlin:20260301T014200
DTSTAMP:20260419T223722
CREATED:20251231T083011Z
LAST-MODIFIED:20251231T173140Z
UID:28824-1772329320-1772329320@www.erc09.de
SUMMARY:Hochwasser
DESCRIPTION:Hochwasserzeiten für den Elmshorner Hafen Quelle: Bundesamt für Seeschifffahrt und Hydrographie (BSH)
URL:https://www.erc09.de/termin/hochwasser-2282/
CATEGORIES:Hochwasser
END:VEVENT
BEGIN:VEVENT
DTSTART;TZID=Europe/Berlin:20260301T123000
DTEND;TZID=Europe/Berlin:20260301T143600
DTSTAMP:20260419T223722
CREATED:20260102T094123Z
LAST-MODIFIED:20260102T103952Z
UID:30192-1772368200-1772375760@www.erc09.de
SUMMARY:Allgemeiner Rudertermin
DESCRIPTION:Die allgemeinen Rudertermine stellen Terminvorschläge dar und werden selbstständig organisiert.\nDie Erfahrung aus der Vergangenheit hat gezeigt\, dass der Ruderbetrieb auch ohne eine offizielle Stegaufsicht reibungslos funktioniert.\nFindet euch also vor Ort gerne zusammen und achtet darauf\, dass niemand bootlos am Steg stehen gelassen wird.\nFür weitere Fragen wendet euch gerne an das Team Freizeitsport (post@erc09.de)
URL:https://www.erc09.de/termin/allgemeiner-rudertermin-115/
LOCATION:Elmshorner Ruder-Club von 1909 e. V.\, Wisch 30\, Elmshorn\, Schleswig-Holstein\, 25336\, Deutschland
CATEGORIES:Freizeit
ORGANIZER;CN="Elmshorner Ruder-Club von 1909 e. V.":MAILTO:post@erc09.de
END:VEVENT
BEGIN:VEVENT
DTSTART;TZID=Europe/Berlin:20260301T143600
DTEND;TZID=Europe/Berlin:20260301T143600
DTSTAMP:20260419T223722
CREATED:20251231T092655Z
LAST-MODIFIED:20251231T173140Z
UID:29177-1772375760-1772375760@www.erc09.de
SUMMARY:Hochwasser
DESCRIPTION:Hochwasserzeiten für den Elmshorner Hafen Quelle: Bundesamt für Seeschifffahrt und Hydrographie (BSH)
URL:https://www.erc09.de/termin/hochwasser-2635/
CATEGORIES:Hochwasser
END:VEVENT
BEGIN:VEVENT
DTSTART;TZID=Europe/Berlin:20260302T025300
DTEND;TZID=Europe/Berlin:20260302T025300
DTSTAMP:20260419T223722
CREATED:20251231T083011Z
LAST-MODIFIED:20251231T173140Z
UID:28825-1772419980-1772419980@www.erc09.de
SUMMARY:Hochwasser
DESCRIPTION:Hochwasserzeiten für den Elmshorner Hafen Quelle: Bundesamt für Seeschifffahrt und Hydrographie (BSH)
URL:https://www.erc09.de/termin/hochwasser-2283/
CATEGORIES:Hochwasser
END:VEVENT
BEGIN:VEVENT
DTSTART;TZID=Europe/Berlin:20260302T153800
DTEND;TZID=Europe/Berlin:20260302T153800
DTSTAMP:20260419T223722
CREATED:20251231T092655Z
LAST-MODIFIED:20251231T173140Z
UID:29178-1772465880-1772465880@www.erc09.de
SUMMARY:Hochwasser
DESCRIPTION:Hochwasserzeiten für den Elmshorner Hafen Quelle: Bundesamt für Seeschifffahrt und Hydrographie (BSH)
URL:https://www.erc09.de/termin/hochwasser-2636/
CATEGORIES:Hochwasser
END:VEVENT
BEGIN:VEVENT
DTSTART;TZID=Europe/Berlin:20260302T173000
DTEND;TZID=Europe/Berlin:20260302T193000
DTSTAMP:20260419T223722
CREATED:20251101T155207Z
LAST-MODIFIED:20251102T072601Z
UID:27890-1772472600-1772479800@www.erc09.de
SUMMARY:Jugendtraining (Junior*innen A und B)
DESCRIPTION:Kraft- und Ergotraining  Weitere Infos unter jugendsport@erc09.de
URL:https://www.erc09.de/termin/jugendtraining-juniorinnen-a-und-b-18/
CATEGORIES:Jugend
END:VEVENT
BEGIN:VEVENT
DTSTART;TZID=Europe/Berlin:20260302T193000
DTEND;TZID=Europe/Berlin:20260302T210000
DTSTAMP:20260419T223722
CREATED:20251101T155315Z
LAST-MODIFIED:20251102T072601Z
UID:27911-1772479800-1772485200@www.erc09.de
SUMMARY:offenes Training Allgemein
DESCRIPTION:Kraft- und Ergotraining  Weitere Infos unter post@erc09.de
URL:https://www.erc09.de/termin/offenes-training-allgemein-18/
CATEGORIES:Freizeit
END:VEVENT
BEGIN:VEVENT
DTSTART;TZID=Europe/Berlin:20260303T034800
DTEND;TZID=Europe/Berlin:20260303T034800
DTSTAMP:20260419T223722
CREATED:20251231T083012Z
LAST-MODIFIED:20251231T173140Z
UID:28826-1772509680-1772509680@www.erc09.de
SUMMARY:Hochwasser
DESCRIPTION:Hochwasserzeiten für den Elmshorner Hafen Quelle: Bundesamt für Seeschifffahrt und Hydrographie (BSH)
URL:https://www.erc09.de/termin/hochwasser-2284/
CATEGORIES:Hochwasser
END:VEVENT
BEGIN:VEVENT
DTSTART;TZID=Europe/Berlin:20260303T060000
DTEND;TZID=Europe/Berlin:20260303T070000
DTSTAMP:20260419T223722
CREATED:20251101T155415Z
LAST-MODIFIED:20251102T072601Z
UID:27932-1772517600-1772521200@www.erc09.de
SUMMARY:offenes Training Jugend
DESCRIPTION:Ergotraining  Weitere Infos unter jugendsport@erc09.de
URL:https://www.erc09.de/termin/offenes-training-jugend-18/
CATEGORIES:Jugend
END:VEVENT
BEGIN:VEVENT
DTSTART;TZID=Europe/Berlin:20260303T093000
DTEND;TZID=Europe/Berlin:20260303T110000
DTSTAMP:20260419T223722
CREATED:20251101T155530Z
LAST-MODIFIED:20251102T072601Z
UID:27953-1772530200-1772535600@www.erc09.de
SUMMARY:Training Senioren
DESCRIPTION:Weitere Infos unter post@erc09.de
URL:https://www.erc09.de/termin/training-senioren-18/
CATEGORIES:Freizeit
END:VEVENT
BEGIN:VEVENT
DTSTART;TZID=Europe/Berlin:20260303T162600
DTEND;TZID=Europe/Berlin:20260303T162600
DTSTAMP:20260419T223722
CREATED:20251231T092656Z
LAST-MODIFIED:20251231T173140Z
UID:29179-1772555160-1772555160@www.erc09.de
SUMMARY:Hochwasser
DESCRIPTION:Hochwasserzeiten für den Elmshorner Hafen Quelle: Bundesamt für Seeschifffahrt und Hydrographie (BSH)
URL:https://www.erc09.de/termin/hochwasser-2637/
CATEGORIES:Hochwasser
END:VEVENT
BEGIN:VEVENT
DTSTART;TZID=Europe/Berlin:20260303T173000
DTEND;TZID=Europe/Berlin:20260303T190000
DTSTAMP:20260419T223722
CREATED:20251101T155830Z
LAST-MODIFIED:20251102T072601Z
UID:28014-1772559000-1772564400@www.erc09.de
SUMMARY:Dienstagssport
DESCRIPTION:Spiel
URL:https://www.erc09.de/termin/diensttagssport-18/
CATEGORIES:Jugend
END:VEVENT
BEGIN:VEVENT
DTSTART;TZID=Europe/Berlin:20260303T193000
DTEND;TZID=Europe/Berlin:20260303T210000
DTSTAMP:20260419T223722
CREATED:20251101T155951Z
LAST-MODIFIED:20251102T072601Z
UID:28035-1772566200-1772571600@www.erc09.de
SUMMARY:offenes Training Herren
DESCRIPTION:Kraft- und Ergotraining  Weitere Infos unter post@erc09.de
URL:https://www.erc09.de/termin/offenes-training-herren-18/
CATEGORIES:Freizeit
END:VEVENT
BEGIN:VEVENT
DTSTART;TZID=Europe/Berlin:20260304T043300
DTEND;TZID=Europe/Berlin:20260304T043300
DTSTAMP:20260419T223722
CREATED:20251231T083024Z
LAST-MODIFIED:20251231T173140Z
UID:28827-1772598780-1772598780@www.erc09.de
SUMMARY:Hochwasser
DESCRIPTION:Hochwasserzeiten für den Elmshorner Hafen Quelle: Bundesamt für Seeschifffahrt und Hydrographie (BSH)
URL:https://www.erc09.de/termin/hochwasser-2285/
CATEGORIES:Hochwasser
END:VEVENT
BEGIN:VEVENT
DTSTART;TZID=Europe/Berlin:20260304T160000
DTEND;TZID=Europe/Berlin:20260304T173000
DTSTAMP:20260419T223722
CREATED:20251101T161244Z
LAST-MODIFIED:20251102T072601Z
UID:28096-1772640000-1772645400@www.erc09.de
SUMMARY:Jugendtraining (Kinder bis Jg. 2012)
DESCRIPTION:Kraft- und Ergotraining  Weitere Infos unter jugendsport@erc09.de
URL:https://www.erc09.de/termin/jugendtraining-kinder-bis-jg-2012-18/
CATEGORIES:Jugend
END:VEVENT
BEGIN:VEVENT
DTSTART;TZID=Europe/Berlin:20260304T170600
DTEND;TZID=Europe/Berlin:20260304T170600
DTSTAMP:20260419T223722
CREATED:20251231T092656Z
LAST-MODIFIED:20251231T173140Z
UID:29180-1772643960-1772643960@www.erc09.de
SUMMARY:Hochwasser
DESCRIPTION:Hochwasserzeiten für den Elmshorner Hafen Quelle: Bundesamt für Seeschifffahrt und Hydrographie (BSH)
URL:https://www.erc09.de/termin/hochwasser-2638/
CATEGORIES:Hochwasser
END:VEVENT
BEGIN:VEVENT
DTSTART;TZID=Europe/Berlin:20260304T173000
DTEND;TZID=Europe/Berlin:20260304T190000
DTSTAMP:20260419T223722
CREATED:20251101T162428Z
LAST-MODIFIED:20251102T072601Z
UID:28122-1772645400-1772650800@www.erc09.de
SUMMARY:Jugendtraining (Junior*innen A und B)
DESCRIPTION:Kraft- und Ergotraining  Weitere Infos unter jugendsport@erc09.de
URL:https://www.erc09.de/termin/jugendtraining-juniorinnen-a-und-b-39/
CATEGORIES:Jugend
END:VEVENT
BEGIN:VEVENT
DTSTART;TZID=Europe/Berlin:20260304T190000
DTEND;TZID=Europe/Berlin:20260304T203000
DTSTAMP:20260419T223722
CREATED:20251101T162542Z
LAST-MODIFIED:20251102T072601Z
UID:28143-1772650800-1772656200@www.erc09.de
SUMMARY:offenes Training Damen
DESCRIPTION:Kraft- und Ergotraining  Weitere Infos unter post@erc09.de
URL:https://www.erc09.de/termin/offenes-training-damen-18/
CATEGORIES:Freizeit
END:VEVENT
BEGIN:VEVENT
DTSTART;TZID=Europe/Berlin:20260305T051200
DTEND;TZID=Europe/Berlin:20260305T051200
DTSTAMP:20260419T223722
CREATED:20251231T083025Z
LAST-MODIFIED:20251231T173140Z
UID:28828-1772687520-1772687520@www.erc09.de
SUMMARY:Hochwasser
DESCRIPTION:Hochwasserzeiten für den Elmshorner Hafen Quelle: Bundesamt für Seeschifffahrt und Hydrographie (BSH)
URL:https://www.erc09.de/termin/hochwasser-2286/
CATEGORIES:Hochwasser
END:VEVENT
BEGIN:VEVENT
DTSTART;TZID=Europe/Berlin:20260305T060000
DTEND;TZID=Europe/Berlin:20260305T070000
DTSTAMP:20260419T223722
CREATED:20251101T162643Z
LAST-MODIFIED:20251102T072601Z
UID:28164-1772690400-1772694000@www.erc09.de
SUMMARY:offenes Training Jugend
DESCRIPTION:Ergotraining  Weitere Infos unter jugendsport@erc09.de
URL:https://www.erc09.de/termin/offenes-training-jugend-39/
CATEGORIES:Jugend
END:VEVENT
BEGIN:VEVENT
DTSTART;TZID=Europe/Berlin:20260305T103000
DTEND;TZID=Europe/Berlin:20260305T103000
DTSTAMP:20260419T223722
CREATED:20260222T134617Z
LAST-MODIFIED:20260222T134617Z
UID:30757-1772706600-1772706600@www.erc09.de
SUMMARY:Frühstück im Winter
DESCRIPTION:
URL:https://www.erc09.de/termin/fruehstueck-im-winter-2/
LOCATION:Elmshorner Ruder-Club von 1909 e. V.\, Wisch 30\, Elmshorn\, Schleswig-Holstein\, 25336\, Deutschland
CATEGORIES:Allgemein,Veranstaltungen
ORGANIZER;CN="Elmshorner Ruder-Club von 1909 e. V.":MAILTO:post@erc09.de
END:VEVENT
BEGIN:VEVENT
DTSTART;TZID=Europe/Berlin:20260305T153000
DTEND;TZID=Europe/Berlin:20260305T174000
DTSTAMP:20260419T223722
CREATED:20260102T094123Z
LAST-MODIFIED:20260102T103952Z
UID:30193-1772724600-1772732400@www.erc09.de
SUMMARY:Allgemeiner Rudertermin
DESCRIPTION:Die allgemeinen Rudertermine stellen Terminvorschläge dar und werden selbstständig organisiert.\nDie Erfahrung aus der Vergangenheit hat gezeigt\, dass der Ruderbetrieb auch ohne eine offizielle Stegaufsicht reibungslos funktioniert.\nFindet euch also vor Ort gerne zusammen und achtet darauf\, dass niemand bootlos am Steg stehen gelassen wird.\nFür weitere Fragen wendet euch gerne an das Team Freizeitsport (post@erc09.de)
URL:https://www.erc09.de/termin/allgemeiner-rudertermin-116/
LOCATION:Elmshorner Ruder-Club von 1909 e. V.\, Wisch 30\, Elmshorn\, Schleswig-Holstein\, 25336\, Deutschland
CATEGORIES:Freizeit
ORGANIZER;CN="Elmshorner Ruder-Club von 1909 e. V.":MAILTO:post@erc09.de
END:VEVENT
BEGIN:VEVENT
DTSTART;TZID=Europe/Berlin:20260305T174000
DTEND;TZID=Europe/Berlin:20260305T174000
DTSTAMP:20260419T223722
CREATED:20251231T092657Z
LAST-MODIFIED:20251231T173140Z
UID:29181-1772732400-1772732400@www.erc09.de
SUMMARY:Hochwasser
DESCRIPTION:Hochwasserzeiten für den Elmshorner Hafen Quelle: Bundesamt für Seeschifffahrt und Hydrographie (BSH)
URL:https://www.erc09.de/termin/hochwasser-2639/
CATEGORIES:Hochwasser
END:VEVENT
BEGIN:VEVENT
DTSTART;TZID=Europe/Berlin:20260305T193000
DTEND;TZID=Europe/Berlin:20260305T213000
DTSTAMP:20260419T223722
CREATED:20251101T162743Z
LAST-MODIFIED:20251102T072601Z
UID:28185-1772739000-1772746200@www.erc09.de
SUMMARY:Training Masters
DESCRIPTION:Kraft- und Ergotraining  Weitere Infos unter post@erc09.de
URL:https://www.erc09.de/termin/training-masters-18/
CATEGORIES:Freizeit
END:VEVENT
BEGIN:VEVENT
DTSTART;TZID=Europe/Berlin:20260306T054800
DTEND;TZID=Europe/Berlin:20260306T054800
DTSTAMP:20260419T223722
CREATED:20251231T083025Z
LAST-MODIFIED:20251231T173140Z
UID:28829-1772776080-1772776080@www.erc09.de
SUMMARY:Hochwasser
DESCRIPTION:Hochwasserzeiten für den Elmshorner Hafen Quelle: Bundesamt für Seeschifffahrt und Hydrographie (BSH)
URL:https://www.erc09.de/termin/hochwasser-2287/
CATEGORIES:Hochwasser
END:VEVENT
BEGIN:VEVENT
DTSTART;TZID=Europe/Berlin:20260306T093000
DTEND;TZID=Europe/Berlin:20260306T110000
DTSTAMP:20260419T223722
CREATED:20251101T171619Z
LAST-MODIFIED:20251102T072601Z
UID:28294-1772789400-1772794800@www.erc09.de
SUMMARY:Training Senioren
DESCRIPTION:Weitere Infos unter post@erc09.de
URL:https://www.erc09.de/termin/training-senioren-79/
CATEGORIES:Freizeit
END:VEVENT
BEGIN:VEVENT
DTSTART;TZID=Europe/Berlin:20260306T160000
DTEND;TZID=Europe/Berlin:20260306T173000
DTSTAMP:20260419T223722
CREATED:20251101T163043Z
LAST-MODIFIED:20251102T072601Z
UID:28246-1772812800-1772818200@www.erc09.de
SUMMARY:Jugendtraining (Kinder bis Jg. 2012)
DESCRIPTION:Kraft- und Ergotraining  Weitere Infos unter jugendsport@erc09.de
URL:https://www.erc09.de/termin/jugendtraining-kinder-bis-jg-2012-39/
CATEGORIES:Jugend
END:VEVENT
BEGIN:VEVENT
DTSTART;TZID=Europe/Berlin:20260306T160000
DTEND;TZID=Europe/Berlin:20260306T181100
DTSTAMP:20260419T223722
CREATED:20260102T094124Z
LAST-MODIFIED:20260102T103952Z
UID:30194-1772812800-1772820660@www.erc09.de
SUMMARY:Allgemeiner Rudertermin
DESCRIPTION:Die allgemeinen Rudertermine stellen Terminvorschläge dar und werden selbstständig organisiert.\nDie Erfahrung aus der Vergangenheit hat gezeigt\, dass der Ruderbetrieb auch ohne eine offizielle Stegaufsicht reibungslos funktioniert.\nFindet euch also vor Ort gerne zusammen und achtet darauf\, dass niemand bootlos am Steg stehen gelassen wird.\nFür weitere Fragen wendet euch gerne an das Team Freizeitsport (post@erc09.de)
URL:https://www.erc09.de/termin/allgemeiner-rudertermin-117/
LOCATION:Elmshorner Ruder-Club von 1909 e. V.\, Wisch 30\, Elmshorn\, Schleswig-Holstein\, 25336\, Deutschland
CATEGORIES:Freizeit
ORGANIZER;CN="Elmshorner Ruder-Club von 1909 e. V.":MAILTO:post@erc09.de
END:VEVENT
BEGIN:VEVENT
DTSTART;TZID=Europe/Berlin:20260306T173000
DTEND;TZID=Europe/Berlin:20260306T193000
DTSTAMP:20260419T223722
CREATED:20251101T163236Z
LAST-MODIFIED:20251102T072601Z
UID:28267-1772818200-1772825400@www.erc09.de
SUMMARY:Jugendtraining (Junior*innen A und B)
DESCRIPTION:Kraft- und Ergotraining  Weitere Infos unter jugendsport@erc09.de
URL:https://www.erc09.de/termin/jugendtraining-juniorinnen-a-und-b-60/
CATEGORIES:Jugend
END:VEVENT
END:VCALENDAR