BEGIN:VCALENDAR
VERSION:2.0
PRODID:-//Elmshorner Ruder-Club v. 1909 - ECPv6.15.20//NONSGML v1.0//EN
CALSCALE:GREGORIAN
METHOD:PUBLISH
X-ORIGINAL-URL:https://www.erc09.de
X-WR-CALDESC:Veranstaltungen für Elmshorner Ruder-Club v. 1909
REFRESH-INTERVAL;VALUE=DURATION:PT1H
X-Robots-Tag:noindex
X-PUBLISHED-TTL:PT1H
BEGIN:VTIMEZONE
TZID:Europe/Berlin
BEGIN:DAYLIGHT
TZOFFSETFROM:+0100
TZOFFSETTO:+0200
TZNAME:CEST
DTSTART:20250330T010000
END:DAYLIGHT
BEGIN:STANDARD
TZOFFSETFROM:+0200
TZOFFSETTO:+0100
TZNAME:CET
DTSTART:20251026T010000
END:STANDARD
BEGIN:DAYLIGHT
TZOFFSETFROM:+0100
TZOFFSETTO:+0200
TZNAME:CEST
DTSTART:20260329T010000
END:DAYLIGHT
BEGIN:STANDARD
TZOFFSETFROM:+0200
TZOFFSETTO:+0100
TZNAME:CET
DTSTART:20261025T010000
END:STANDARD
BEGIN:DAYLIGHT
TZOFFSETFROM:+0100
TZOFFSETTO:+0200
TZNAME:CEST
DTSTART:20270328T010000
END:DAYLIGHT
BEGIN:STANDARD
TZOFFSETFROM:+0200
TZOFFSETTO:+0100
TZNAME:CET
DTSTART:20271031T010000
END:STANDARD
END:VTIMEZONE
BEGIN:VEVENT
DTSTART;TZID=Europe/Berlin:20260201T025900
DTEND;TZID=Europe/Berlin:20260201T025900
DTSTAMP:20260420T001128
CREATED:20251231T082731Z
LAST-MODIFIED:20251231T173141Z
UID:28797-1769914740-1769914740@www.erc09.de
SUMMARY:Hochwasser
DESCRIPTION:Hochwasserzeiten für den Elmshorner Hafen Quelle: Bundesamt für Seeschifffahrt und Hydrographie (BSH)
URL:https://www.erc09.de/termin/hochwasser-2255/
CATEGORIES:Hochwasser
END:VEVENT
BEGIN:VEVENT
DTSTART;TZID=Europe/Berlin:20260201T133000
DTEND;TZID=Europe/Berlin:20260201T154300
DTSTAMP:20260420T001128
CREATED:20260102T094123Z
LAST-MODIFIED:20260102T103951Z
UID:30187-1769952600-1769960580@www.erc09.de
SUMMARY:Allgemeiner Rudertermin
DESCRIPTION:Die allgemeinen Rudertermine stellen Terminvorschläge dar und werden selbstständig organisiert.\nDie Erfahrung aus der Vergangenheit hat gezeigt\, dass der Ruderbetrieb auch ohne eine offizielle Stegaufsicht reibungslos funktioniert.\nFindet euch also vor Ort gerne zusammen und achtet darauf\, dass niemand bootlos am Steg stehen gelassen wird.\nFür weitere Fragen wendet euch gerne an das Team Freizeitsport (post@erc09.de)
URL:https://www.erc09.de/termin/allgemeiner-rudertermin-94/
LOCATION:Elmshorner Ruder-Club von 1909 e. V.\, Wisch 30\, Elmshorn\, Schleswig-Holstein\, 25336\, Deutschland
CATEGORIES:Freizeit
ORGANIZER;CN="Elmshorner Ruder-Club von 1909 e. V.":MAILTO:post@erc09.de
END:VEVENT
BEGIN:VEVENT
DTSTART;TZID=Europe/Berlin:20260201T154300
DTEND;TZID=Europe/Berlin:20260201T154300
DTSTAMP:20260420T001128
CREATED:20251231T092527Z
LAST-MODIFIED:20251231T173141Z
UID:29150-1769960580-1769960580@www.erc09.de
SUMMARY:Hochwasser
DESCRIPTION:Hochwasserzeiten für den Elmshorner Hafen Quelle: Bundesamt für Seeschifffahrt und Hydrographie (BSH)
URL:https://www.erc09.de/termin/hochwasser-2608/
CATEGORIES:Hochwasser
END:VEVENT
BEGIN:VEVENT
DTSTART;TZID=Europe/Berlin:20260202T035800
DTEND;TZID=Europe/Berlin:20260202T035800
DTSTAMP:20260420T001128
CREATED:20251231T082732Z
LAST-MODIFIED:20251231T173141Z
UID:28798-1770004680-1770004680@www.erc09.de
SUMMARY:Hochwasser
DESCRIPTION:Hochwasserzeiten für den Elmshorner Hafen Quelle: Bundesamt für Seeschifffahrt und Hydrographie (BSH)
URL:https://www.erc09.de/termin/hochwasser-2256/
CATEGORIES:Hochwasser
END:VEVENT
BEGIN:VEVENT
DTSTART;TZID=Europe/Berlin:20260202T163800
DTEND;TZID=Europe/Berlin:20260202T163800
DTSTAMP:20260420T001128
CREATED:20251231T092527Z
LAST-MODIFIED:20251231T173141Z
UID:29151-1770050280-1770050280@www.erc09.de
SUMMARY:Hochwasser
DESCRIPTION:Hochwasserzeiten für den Elmshorner Hafen Quelle: Bundesamt für Seeschifffahrt und Hydrographie (BSH)
URL:https://www.erc09.de/termin/hochwasser-2609/
CATEGORIES:Hochwasser
END:VEVENT
BEGIN:VEVENT
DTSTART;TZID=Europe/Berlin:20260202T173000
DTEND;TZID=Europe/Berlin:20260202T193000
DTSTAMP:20260420T001128
CREATED:20251101T155153Z
LAST-MODIFIED:20251102T072602Z
UID:27886-1770053400-1770060600@www.erc09.de
SUMMARY:Jugendtraining (Junior*innen A und B)
DESCRIPTION:Kraft- und Ergotraining  Weitere Infos unter jugendsport@erc09.de
URL:https://www.erc09.de/termin/jugendtraining-juniorinnen-a-und-b-14/
CATEGORIES:Jugend
END:VEVENT
BEGIN:VEVENT
DTSTART;TZID=Europe/Berlin:20260202T193000
DTEND;TZID=Europe/Berlin:20260202T210000
DTSTAMP:20260420T001128
CREATED:20251101T155252Z
LAST-MODIFIED:20251102T072602Z
UID:27907-1770060600-1770066000@www.erc09.de
SUMMARY:offenes Training Allgemein
DESCRIPTION:Kraft- und Ergotraining  Weitere Infos unter post@erc09.de
URL:https://www.erc09.de/termin/offenes-training-allgemein-14/
CATEGORIES:Freizeit
END:VEVENT
BEGIN:VEVENT
DTSTART;TZID=Europe/Berlin:20260203T044800
DTEND;TZID=Europe/Berlin:20260203T044800
DTSTAMP:20260420T001128
CREATED:20251231T082732Z
LAST-MODIFIED:20251231T173141Z
UID:28799-1770094080-1770094080@www.erc09.de
SUMMARY:Hochwasser
DESCRIPTION:Hochwasserzeiten für den Elmshorner Hafen Quelle: Bundesamt für Seeschifffahrt und Hydrographie (BSH)
URL:https://www.erc09.de/termin/hochwasser-2257/
CATEGORIES:Hochwasser
END:VEVENT
BEGIN:VEVENT
DTSTART;TZID=Europe/Berlin:20260203T060000
DTEND;TZID=Europe/Berlin:20260203T070000
DTSTAMP:20260420T001128
CREATED:20251101T155415Z
LAST-MODIFIED:20251102T072602Z
UID:27928-1770098400-1770102000@www.erc09.de
SUMMARY:offenes Training Jugend
DESCRIPTION:Ergotraining  Weitere Infos unter jugendsport@erc09.de
URL:https://www.erc09.de/termin/offenes-training-jugend-14/
CATEGORIES:Jugend
END:VEVENT
BEGIN:VEVENT
DTSTART;TZID=Europe/Berlin:20260203T093000
DTEND;TZID=Europe/Berlin:20260203T110000
DTSTAMP:20260420T001128
CREATED:20251101T155515Z
LAST-MODIFIED:20251102T072602Z
UID:27949-1770111000-1770116400@www.erc09.de
SUMMARY:Training Senioren
DESCRIPTION:Weitere Infos unter post@erc09.de
URL:https://www.erc09.de/termin/training-senioren-14/
CATEGORIES:Freizeit
END:VEVENT
BEGIN:VEVENT
DTSTART;TZID=Europe/Berlin:20260203T172500
DTEND;TZID=Europe/Berlin:20260203T172500
DTSTAMP:20260420T001128
CREATED:20251231T092540Z
LAST-MODIFIED:20251231T173141Z
UID:29152-1770139500-1770139500@www.erc09.de
SUMMARY:Hochwasser
DESCRIPTION:Hochwasserzeiten für den Elmshorner Hafen Quelle: Bundesamt für Seeschifffahrt und Hydrographie (BSH)
URL:https://www.erc09.de/termin/hochwasser-2610/
CATEGORIES:Hochwasser
END:VEVENT
BEGIN:VEVENT
DTSTART;TZID=Europe/Berlin:20260203T173000
DTEND;TZID=Europe/Berlin:20260203T190000
DTSTAMP:20260420T001128
CREATED:20251101T155815Z
LAST-MODIFIED:20251102T072602Z
UID:28010-1770139800-1770145200@www.erc09.de
SUMMARY:Dienstagssport
DESCRIPTION:Spiel
URL:https://www.erc09.de/termin/diensttagssport-14/
CATEGORIES:Jugend
END:VEVENT
BEGIN:VEVENT
DTSTART;TZID=Europe/Berlin:20260203T193000
DTEND;TZID=Europe/Berlin:20260203T210000
DTSTAMP:20260420T001128
CREATED:20251101T155915Z
LAST-MODIFIED:20251102T072602Z
UID:28031-1770147000-1770152400@www.erc09.de
SUMMARY:offenes Training Herren
DESCRIPTION:Kraft- und Ergotraining  Weitere Infos unter post@erc09.de
URL:https://www.erc09.de/termin/offenes-training-herren-14/
CATEGORIES:Freizeit
END:VEVENT
BEGIN:VEVENT
DTSTART;TZID=Europe/Berlin:20260204T053300
DTEND;TZID=Europe/Berlin:20260204T053300
DTSTAMP:20260420T001128
CREATED:20251231T082733Z
LAST-MODIFIED:20251231T173141Z
UID:28800-1770183180-1770183180@www.erc09.de
SUMMARY:Hochwasser
DESCRIPTION:Hochwasserzeiten für den Elmshorner Hafen Quelle: Bundesamt für Seeschifffahrt und Hydrographie (BSH)
URL:https://www.erc09.de/termin/hochwasser-2258/
CATEGORIES:Hochwasser
END:VEVENT
BEGIN:VEVENT
DTSTART;TZID=Europe/Berlin:20260204T160000
DTEND;TZID=Europe/Berlin:20260204T173000
DTSTAMP:20260420T001128
CREATED:20251101T161043Z
LAST-MODIFIED:20251102T072602Z
UID:28092-1770220800-1770226200@www.erc09.de
SUMMARY:Jugendtraining (Kinder bis Jg. 2012)
DESCRIPTION:Kraft- und Ergotraining  Weitere Infos unter jugendsport@erc09.de
URL:https://www.erc09.de/termin/jugendtraining-kinder-bis-jg-2012-14/
CATEGORIES:Jugend
END:VEVENT
BEGIN:VEVENT
DTSTART;TZID=Europe/Berlin:20260204T173000
DTEND;TZID=Europe/Berlin:20260204T190000
DTSTAMP:20260420T001128
CREATED:20251101T162427Z
LAST-MODIFIED:20251102T072602Z
UID:28118-1770226200-1770231600@www.erc09.de
SUMMARY:Jugendtraining (Junior*innen A und B)
DESCRIPTION:Kraft- und Ergotraining  Weitere Infos unter jugendsport@erc09.de
URL:https://www.erc09.de/termin/jugendtraining-juniorinnen-a-und-b-35/
CATEGORIES:Jugend
END:VEVENT
BEGIN:VEVENT
DTSTART;TZID=Europe/Berlin:20260204T180600
DTEND;TZID=Europe/Berlin:20260204T180600
DTSTAMP:20260420T001128
CREATED:20251231T092540Z
LAST-MODIFIED:20251231T173141Z
UID:29153-1770228360-1770228360@www.erc09.de
SUMMARY:Hochwasser
DESCRIPTION:Hochwasserzeiten für den Elmshorner Hafen Quelle: Bundesamt für Seeschifffahrt und Hydrographie (BSH)
URL:https://www.erc09.de/termin/hochwasser-2611/
CATEGORIES:Hochwasser
END:VEVENT
BEGIN:VEVENT
DTSTART;TZID=Europe/Berlin:20260204T190000
DTEND;TZID=Europe/Berlin:20260204T203000
DTSTAMP:20260420T001128
CREATED:20251101T162527Z
LAST-MODIFIED:20251102T072602Z
UID:28139-1770231600-1770237000@www.erc09.de
SUMMARY:offenes Training Damen
DESCRIPTION:Kraft- und Ergotraining  Weitere Infos unter post@erc09.de
URL:https://www.erc09.de/termin/offenes-training-damen-14/
CATEGORIES:Freizeit
END:VEVENT
BEGIN:VEVENT
DTSTART;TZID=Europe/Berlin:20260205T060000
DTEND;TZID=Europe/Berlin:20260205T070000
DTSTAMP:20260420T001128
CREATED:20251101T162627Z
LAST-MODIFIED:20251102T072602Z
UID:28160-1770271200-1770274800@www.erc09.de
SUMMARY:offenes Training Jugend
DESCRIPTION:Ergotraining  Weitere Infos unter jugendsport@erc09.de
URL:https://www.erc09.de/termin/offenes-training-jugend-35/
CATEGORIES:Jugend
END:VEVENT
BEGIN:VEVENT
DTSTART;TZID=Europe/Berlin:20260205T061300
DTEND;TZID=Europe/Berlin:20260205T061300
DTSTAMP:20260420T001128
CREATED:20251231T082733Z
LAST-MODIFIED:20251231T173141Z
UID:28801-1770271980-1770271980@www.erc09.de
SUMMARY:Hochwasser
DESCRIPTION:Hochwasserzeiten für den Elmshorner Hafen Quelle: Bundesamt für Seeschifffahrt und Hydrographie (BSH)
URL:https://www.erc09.de/termin/hochwasser-2259/
CATEGORIES:Hochwasser
END:VEVENT
BEGIN:VEVENT
DTSTART;TZID=Europe/Berlin:20260205T184300
DTEND;TZID=Europe/Berlin:20260205T184300
DTSTAMP:20260420T001128
CREATED:20251231T092541Z
LAST-MODIFIED:20251231T173141Z
UID:29154-1770316980-1770316980@www.erc09.de
SUMMARY:Hochwasser
DESCRIPTION:Hochwasserzeiten für den Elmshorner Hafen Quelle: Bundesamt für Seeschifffahrt und Hydrographie (BSH)
URL:https://www.erc09.de/termin/hochwasser-2612/
CATEGORIES:Hochwasser
END:VEVENT
BEGIN:VEVENT
DTSTART;TZID=Europe/Berlin:20260205T193000
DTEND;TZID=Europe/Berlin:20260205T213000
DTSTAMP:20260420T001128
CREATED:20251101T162728Z
LAST-MODIFIED:20251102T072602Z
UID:28181-1770319800-1770327000@www.erc09.de
SUMMARY:Training Masters
DESCRIPTION:Kraft- und Ergotraining  Weitere Infos unter post@erc09.de
URL:https://www.erc09.de/termin/training-masters-14/
CATEGORIES:Freizeit
END:VEVENT
BEGIN:VEVENT
DTSTART;TZID=Europe/Berlin:20260206T065000
DTEND;TZID=Europe/Berlin:20260206T065000
DTSTAMP:20260420T001128
CREATED:20251231T082746Z
LAST-MODIFIED:20251231T173141Z
UID:28802-1770360600-1770360600@www.erc09.de
SUMMARY:Hochwasser
DESCRIPTION:Hochwasserzeiten für den Elmshorner Hafen Quelle: Bundesamt für Seeschifffahrt und Hydrographie (BSH)
URL:https://www.erc09.de/termin/hochwasser-2260/
CATEGORIES:Hochwasser
END:VEVENT
BEGIN:VEVENT
DTSTART;TZID=Europe/Berlin:20260206T093000
DTEND;TZID=Europe/Berlin:20260206T110000
DTSTAMP:20260420T001129
CREATED:20251101T171602Z
LAST-MODIFIED:20251102T072602Z
UID:28290-1770370200-1770375600@www.erc09.de
SUMMARY:Training Senioren
DESCRIPTION:Weitere Infos unter post@erc09.de
URL:https://www.erc09.de/termin/training-senioren-75/
CATEGORIES:Freizeit
END:VEVENT
BEGIN:VEVENT
DTSTART;TZID=Europe/Berlin:20260206T160000
DTEND;TZID=Europe/Berlin:20260206T173000
DTSTAMP:20260420T001129
CREATED:20251101T163028Z
LAST-MODIFIED:20251102T072602Z
UID:28242-1770393600-1770399000@www.erc09.de
SUMMARY:Jugendtraining (Kinder bis Jg. 2012)
DESCRIPTION:Kraft- und Ergotraining  Weitere Infos unter jugendsport@erc09.de
URL:https://www.erc09.de/termin/jugendtraining-kinder-bis-jg-2012-35/
CATEGORIES:Jugend
END:VEVENT
BEGIN:VEVENT
DTSTART;TZID=Europe/Berlin:20260206T173000
DTEND;TZID=Europe/Berlin:20260206T193000
DTSTAMP:20260420T001129
CREATED:20251101T163236Z
LAST-MODIFIED:20251102T072602Z
UID:28263-1770399000-1770406200@www.erc09.de
SUMMARY:Jugendtraining (Junior*innen A und B)
DESCRIPTION:Kraft- und Ergotraining  Weitere Infos unter jugendsport@erc09.de
URL:https://www.erc09.de/termin/jugendtraining-juniorinnen-a-und-b-56/
CATEGORIES:Jugend
END:VEVENT
BEGIN:VEVENT
DTSTART;TZID=Europe/Berlin:20260206T191700
DTEND;TZID=Europe/Berlin:20260206T191700
DTSTAMP:20260420T001129
CREATED:20251231T092541Z
LAST-MODIFIED:20251231T173141Z
UID:29155-1770405420-1770405420@www.erc09.de
SUMMARY:Hochwasser
DESCRIPTION:Hochwasserzeiten für den Elmshorner Hafen Quelle: Bundesamt für Seeschifffahrt und Hydrographie (BSH)
URL:https://www.erc09.de/termin/hochwasser-2613/
CATEGORIES:Hochwasser
END:VEVENT
BEGIN:VEVENT
DTSTART;TZID=Europe/Berlin:20260206T193000
DTEND;TZID=Europe/Berlin:20260206T193000
DTSTAMP:20260420T001129
CREATED:20260103T235504Z
LAST-MODIFIED:20260103T235504Z
UID:30617-1770406200-1770406200@www.erc09.de
SUMMARY:Grünkohlessen im Bootshaus
DESCRIPTION:
URL:https://www.erc09.de/termin/gruenkohlessen-im-bootshaus/
LOCATION:Elmshorner Ruder-Club von 1909 e. V.\, Wisch 30\, Elmshorn\, Schleswig-Holstein\, 25336\, Deutschland
CATEGORIES:Allgemein
ORGANIZER;CN="Elmshorner Ruder-Club von 1909 e. V.":MAILTO:post@erc09.de
END:VEVENT
BEGIN:VEVENT
DTSTART;TZID=Europe/Berlin:20260207T072400
DTEND;TZID=Europe/Berlin:20260207T072400
DTSTAMP:20260420T001129
CREATED:20251231T082747Z
LAST-MODIFIED:20251231T173141Z
UID:28803-1770449040-1770449040@www.erc09.de
SUMMARY:Hochwasser
DESCRIPTION:Hochwasserzeiten für den Elmshorner Hafen Quelle: Bundesamt für Seeschifffahrt und Hydrographie (BSH)
URL:https://www.erc09.de/termin/hochwasser-2261/
CATEGORIES:Hochwasser
END:VEVENT
BEGIN:VEVENT
DTSTART;TZID=Europe/Berlin:20260207T165000
DTEND;TZID=Europe/Berlin:20260207T190000
DTSTAMP:20260420T001129
CREATED:20260104T101435Z
LAST-MODIFIED:20260104T101435Z
UID:30664-1770483000-1770490800@www.erc09.de
SUMMARY:Schwimmen in der Traglufthalle
DESCRIPTION:Weitere Infos unter post@erc09.de
URL:https://www.erc09.de/termin/schwimmen-in-der-traglufthalle-8/
CATEGORIES:Freizeit
END:VEVENT
END:VCALENDAR