BEGIN:VCALENDAR
VERSION:2.0
PRODID:-//Elmshorner Ruder-Club v. 1909 - ECPv6.15.20//NONSGML v1.0//EN
CALSCALE:GREGORIAN
METHOD:PUBLISH
X-ORIGINAL-URL:https://www.erc09.de
X-WR-CALDESC:Veranstaltungen für Elmshorner Ruder-Club v. 1909
REFRESH-INTERVAL;VALUE=DURATION:PT1H
X-Robots-Tag:noindex
X-PUBLISHED-TTL:PT1H
BEGIN:VTIMEZONE
TZID:Europe/Berlin
BEGIN:DAYLIGHT
TZOFFSETFROM:+0100
TZOFFSETTO:+0200
TZNAME:CEST
DTSTART:20250330T010000
END:DAYLIGHT
BEGIN:STANDARD
TZOFFSETFROM:+0200
TZOFFSETTO:+0100
TZNAME:CET
DTSTART:20251026T010000
END:STANDARD
BEGIN:DAYLIGHT
TZOFFSETFROM:+0100
TZOFFSETTO:+0200
TZNAME:CEST
DTSTART:20260329T010000
END:DAYLIGHT
BEGIN:STANDARD
TZOFFSETFROM:+0200
TZOFFSETTO:+0100
TZNAME:CET
DTSTART:20261025T010000
END:STANDARD
BEGIN:DAYLIGHT
TZOFFSETFROM:+0100
TZOFFSETTO:+0200
TZNAME:CEST
DTSTART:20270328T010000
END:DAYLIGHT
BEGIN:STANDARD
TZOFFSETFROM:+0200
TZOFFSETTO:+0100
TZNAME:CET
DTSTART:20271031T010000
END:STANDARD
END:VTIMEZONE
BEGIN:VEVENT
DTSTART;VALUE=DATE:20260706
DTEND;VALUE=DATE:20260714
DTSTAMP:20260425T215913
CREATED:20260315T123232Z
LAST-MODIFIED:20260315T123307Z
UID:30821-1783296000-1783987199@www.erc09.de
SUMMARY:Große Jugendwanderfahrt
DESCRIPTION:weitere Infos gibt es im Team Jugend.
URL:https://www.erc09.de/termin/grosse-wanderfahrt-2/
CATEGORIES:Fahrten,Jugend
ORGANIZER;CN="Elmshorner Ruder-Club von 1909 e. V.":MAILTO:post@erc09.de
END:VEVENT
BEGIN:VEVENT
DTSTART;TZID=Europe/Berlin:20260707T092600
DTEND;TZID=Europe/Berlin:20260707T092600
DTSTAMP:20260425T215913
CREATED:20251231T090826Z
LAST-MODIFIED:20251231T173123Z
UID:28948-1783416360-1783416360@www.erc09.de
SUMMARY:Hochwasser
DESCRIPTION:Hochwasserzeiten für den Elmshorner Hafen Quelle: Bundesamt für Seeschifffahrt und Hydrographie (BSH)
URL:https://www.erc09.de/termin/hochwasser-2406/
CATEGORIES:Hochwasser
END:VEVENT
BEGIN:VEVENT
DTSTART;TZID=Europe/Berlin:20260707T093000
DTEND;TZID=Europe/Berlin:20260707T110000
DTSTAMP:20260425T215913
CREATED:20251101T155615Z
LAST-MODIFIED:20251102T072600Z
UID:27971-1783416600-1783422000@www.erc09.de
SUMMARY:Training Senioren
DESCRIPTION:Weitere Infos unter post@erc09.de
URL:https://www.erc09.de/termin/training-senioren-36/
CATEGORIES:Freizeit
END:VEVENT
BEGIN:VEVENT
DTSTART;TZID=Europe/Berlin:20260707T193000
DTEND;TZID=Europe/Berlin:20260707T210000
DTSTAMP:20260425T215913
CREATED:20251101T160424Z
LAST-MODIFIED:20251102T072559Z
UID:28053-1783452600-1783458000@www.erc09.de
SUMMARY:offenes Training Herren
DESCRIPTION:Kraft- und Ergotraining  Weitere Infos unter post@erc09.de
URL:https://www.erc09.de/termin/offenes-training-herren-36/
CATEGORIES:Freizeit
END:VEVENT
BEGIN:VEVENT
DTSTART;TZID=Europe/Berlin:20260707T193000
DTEND;TZID=Europe/Berlin:20260707T213600
DTSTAMP:20260425T215913
CREATED:20260102T101756Z
LAST-MODIFIED:20260102T104558Z
UID:30269-1783452600-1783460160@www.erc09.de
SUMMARY:Allgemeiner Rudertermin
DESCRIPTION:Die allgemeinen Rudertermine stellen Terminvorschläge dar und werden selbstständig organisiert.\nDie Erfahrung aus der Vergangenheit hat gezeigt\, dass der Ruderbetrieb auch ohne eine offizielle Stegaufsicht reibungslos funktioniert.\nFindet euch also vor Ort gerne zusammen und achtet darauf\, dass niemand bootlos am Steg stehen gelassen wird.\nFür weitere Fragen wendet euch gerne an das Team Freizeitsport (post@erc09.de)
URL:https://www.erc09.de/termin/allgemeiner-rudertermin-279/
LOCATION:Elmshorner Ruder-Club von 1909 e. V.\, Wisch 30\, Elmshorn\, Schleswig-Holstein\, 25336\, Deutschland
CATEGORIES:Freizeit
ORGANIZER;CN="Elmshorner Ruder-Club von 1909 e. V.":MAILTO:post@erc09.de
END:VEVENT
BEGIN:VEVENT
DTSTART;TZID=Europe/Berlin:20260707T213600
DTEND;TZID=Europe/Berlin:20260707T213600
DTSTAMP:20260425T215913
CREATED:20251231T164006Z
LAST-MODIFIED:20251231T173123Z
UID:29747-1783460160-1783460160@www.erc09.de
SUMMARY:Hochwasser
DESCRIPTION:Hochwasserzeiten für den Elmshorner Hafen Quelle: Bundesamt für Seeschifffahrt und Hydrographie (BSH)
URL:https://www.erc09.de/termin/hochwasser-2759/
CATEGORIES:Hochwasser
END:VEVENT
END:VCALENDAR