BEGIN:VCALENDAR
VERSION:2.0
PRODID:-//Elmshorner Ruder-Club v. 1909 - ECPv6.15.20//NONSGML v1.0//EN
CALSCALE:GREGORIAN
METHOD:PUBLISH
X-ORIGINAL-URL:https://www.erc09.de
X-WR-CALDESC:Veranstaltungen für Elmshorner Ruder-Club v. 1909
REFRESH-INTERVAL;VALUE=DURATION:PT1H
X-Robots-Tag:noindex
X-PUBLISHED-TTL:PT1H
BEGIN:VTIMEZONE
TZID:Europe/Berlin
BEGIN:DAYLIGHT
TZOFFSETFROM:+0100
TZOFFSETTO:+0200
TZNAME:CEST
DTSTART:20250330T010000
END:DAYLIGHT
BEGIN:STANDARD
TZOFFSETFROM:+0200
TZOFFSETTO:+0100
TZNAME:CET
DTSTART:20251026T010000
END:STANDARD
BEGIN:DAYLIGHT
TZOFFSETFROM:+0100
TZOFFSETTO:+0200
TZNAME:CEST
DTSTART:20260329T010000
END:DAYLIGHT
BEGIN:STANDARD
TZOFFSETFROM:+0200
TZOFFSETTO:+0100
TZNAME:CET
DTSTART:20261025T010000
END:STANDARD
BEGIN:DAYLIGHT
TZOFFSETFROM:+0100
TZOFFSETTO:+0200
TZNAME:CEST
DTSTART:20270328T010000
END:DAYLIGHT
BEGIN:STANDARD
TZOFFSETFROM:+0200
TZOFFSETTO:+0100
TZNAME:CET
DTSTART:20271031T010000
END:STANDARD
END:VTIMEZONE
BEGIN:VEVENT
DTSTART;VALUE=DATE:20260624
DTEND;VALUE=DATE:20260629
DTSTAMP:20260425T181959
CREATED:20250910T132536Z
LAST-MODIFIED:20250910T132536Z
UID:27650-1782259200-1782691199@www.erc09.de
SUMMARY:Deutsche Juniorenmeisterschaft Essen
DESCRIPTION:Weitere Infos beim Team Leistungssport
URL:https://www.erc09.de/termin/deutsche-juniorenmeisterschaft-essen/
LOCATION:Regattastrecke am Baldenaysee\, Freiherr-vom-Stein-Straße 206b\, Essen\, 45133\, Deutschland
CATEGORIES:Regatta
END:VEVENT
BEGIN:VEVENT
DTSTART;VALUE=DATE:20260626
DTEND;VALUE=DATE:20260629
DTSTAMP:20260425T181959
CREATED:20260315T123535Z
LAST-MODIFIED:20260315T123535Z
UID:30826-1782432000-1782691199@www.erc09.de
SUMMARY:Fun-Rowing-Camp am Brahmsee
DESCRIPTION:Weitere Infos gibt es beim Team Jugend
URL:https://www.erc09.de/termin/fun-rowing-camp-am-brahmsee/
LOCATION:Waldheim am Brahmsee\, Waldheim 1\, Langwedel / Holstein\, 24631\, Deutschland
CATEGORIES:Fahrten,Jugend
ORGANIZER;CN="Elmshorner Ruder-Club von 1909 e. V.":MAILTO:post@erc09.de
END:VEVENT
BEGIN:VEVENT
DTSTART;TZID=Europe/Berlin:20260626T013800
DTEND;TZID=Europe/Berlin:20260626T013800
DTSTAMP:20260425T181959
CREATED:20251231T090609Z
LAST-MODIFIED:20251231T173124Z
UID:28937-1782437880-1782437880@www.erc09.de
SUMMARY:Hochwasser
DESCRIPTION:Hochwasserzeiten für den Elmshorner Hafen Quelle: Bundesamt für Seeschifffahrt und Hydrographie (BSH)
URL:https://www.erc09.de/termin/hochwasser-2395/
CATEGORIES:Hochwasser
END:VEVENT
BEGIN:VEVENT
DTSTART;TZID=Europe/Berlin:20260626T141400
DTEND;TZID=Europe/Berlin:20260626T141400
DTSTAMP:20260425T181959
CREATED:20251231T163604Z
LAST-MODIFIED:20251231T173124Z
UID:29736-1782483240-1782483240@www.erc09.de
SUMMARY:Hochwasser
DESCRIPTION:Hochwasserzeiten für den Elmshorner Hafen Quelle: Bundesamt für Seeschifffahrt und Hydrographie (BSH)
URL:https://www.erc09.de/termin/hochwasser-2748/
CATEGORIES:Hochwasser
END:VEVENT
END:VCALENDAR