BEGIN:VCALENDAR
VERSION:2.0
PRODID:-//Elmshorner Ruder-Club v. 1909 - ECPv6.15.20//NONSGML v1.0//EN
CALSCALE:GREGORIAN
METHOD:PUBLISH
X-ORIGINAL-URL:https://www.erc09.de
X-WR-CALDESC:Veranstaltungen für Elmshorner Ruder-Club v. 1909
REFRESH-INTERVAL;VALUE=DURATION:PT1H
X-Robots-Tag:noindex
X-PUBLISHED-TTL:PT1H
BEGIN:VTIMEZONE
TZID:Europe/Berlin
BEGIN:DAYLIGHT
TZOFFSETFROM:+0100
TZOFFSETTO:+0200
TZNAME:CEST
DTSTART:20250330T010000
END:DAYLIGHT
BEGIN:STANDARD
TZOFFSETFROM:+0200
TZOFFSETTO:+0100
TZNAME:CET
DTSTART:20251026T010000
END:STANDARD
BEGIN:DAYLIGHT
TZOFFSETFROM:+0100
TZOFFSETTO:+0200
TZNAME:CEST
DTSTART:20260329T010000
END:DAYLIGHT
BEGIN:STANDARD
TZOFFSETFROM:+0200
TZOFFSETTO:+0100
TZNAME:CET
DTSTART:20261025T010000
END:STANDARD
BEGIN:DAYLIGHT
TZOFFSETFROM:+0100
TZOFFSETTO:+0200
TZNAME:CEST
DTSTART:20270328T010000
END:DAYLIGHT
BEGIN:STANDARD
TZOFFSETFROM:+0200
TZOFFSETTO:+0100
TZNAME:CET
DTSTART:20271031T010000
END:STANDARD
END:VTIMEZONE
BEGIN:VEVENT
DTSTART;VALUE=DATE:20260624
DTEND;VALUE=DATE:20260629
DTSTAMP:20260425T181856
CREATED:20250910T132536Z
LAST-MODIFIED:20250910T132536Z
UID:27650-1782259200-1782691199@www.erc09.de
SUMMARY:Deutsche Juniorenmeisterschaft Essen
DESCRIPTION:Weitere Infos beim Team Leistungssport
URL:https://www.erc09.de/termin/deutsche-juniorenmeisterschaft-essen/
LOCATION:Regattastrecke am Baldenaysee\, Freiherr-vom-Stein-Straße 206b\, Essen\, 45133\, Deutschland
CATEGORIES:Regatta
END:VEVENT
BEGIN:VEVENT
DTSTART;TZID=Europe/Berlin:20260624T121600
DTEND;TZID=Europe/Berlin:20260624T121600
DTSTAMP:20260425T181856
CREATED:20251231T163603Z
LAST-MODIFIED:20251231T173124Z
UID:29734-1782303360-1782303360@www.erc09.de
SUMMARY:Hochwasser
DESCRIPTION:Hochwasserzeiten für den Elmshorner Hafen Quelle: Bundesamt für Seeschifffahrt und Hydrographie (BSH)
URL:https://www.erc09.de/termin/hochwasser-2746/
CATEGORIES:Hochwasser
END:VEVENT
BEGIN:VEVENT
DTSTART;TZID=Europe/Berlin:20260624T170000
DTEND;TZID=Europe/Berlin:20260624T190000
DTSTAMP:20260425T181856
CREATED:20260410T194348Z
LAST-MODIFIED:20260410T194553Z
UID:30954-1782320400-1782327600@www.erc09.de
SUMMARY:Jugendtraining (alle Jg.)
DESCRIPTION:Weitere Infos zu den Terminen gibt es bei den Jugendbetreuern unter jugendsport@erc09.de.
URL:https://www.erc09.de/termin/jugendtraining-alle-jg-11/
CATEGORIES:Jugend
END:VEVENT
BEGIN:VEVENT
DTSTART;TZID=Europe/Berlin:20260624T190000
DTEND;TZID=Europe/Berlin:20260624T203000
DTSTAMP:20260425T181856
CREATED:20260419T110210Z
LAST-MODIFIED:20260419T110210Z
UID:31052-1782327600-1782333000@www.erc09.de
SUMMARY:Offenes Training Damen
DESCRIPTION:
URL:https://www.erc09.de/termin/offenes-training-damen-31/
CATEGORIES:Allgemein
END:VEVENT
END:VCALENDAR