BEGIN:VCALENDAR
VERSION:2.0
PRODID:-//Elmshorner Ruder-Club v. 1909 - ECPv6.15.20//NONSGML v1.0//EN
CALSCALE:GREGORIAN
METHOD:PUBLISH
X-WR-CALNAME:Elmshorner Ruder-Club v. 1909
X-ORIGINAL-URL:https://www.erc09.de
X-WR-CALDESC:Veranstaltungen für Elmshorner Ruder-Club v. 1909
REFRESH-INTERVAL;VALUE=DURATION:PT1H
X-Robots-Tag:noindex
X-PUBLISHED-TTL:PT1H
BEGIN:VTIMEZONE
TZID:Europe/Berlin
BEGIN:DAYLIGHT
TZOFFSETFROM:+0100
TZOFFSETTO:+0200
TZNAME:CEST
DTSTART:20250330T010000
END:DAYLIGHT
BEGIN:STANDARD
TZOFFSETFROM:+0200
TZOFFSETTO:+0100
TZNAME:CET
DTSTART:20251026T010000
END:STANDARD
BEGIN:DAYLIGHT
TZOFFSETFROM:+0100
TZOFFSETTO:+0200
TZNAME:CEST
DTSTART:20260329T010000
END:DAYLIGHT
BEGIN:STANDARD
TZOFFSETFROM:+0200
TZOFFSETTO:+0100
TZNAME:CET
DTSTART:20261025T010000
END:STANDARD
BEGIN:DAYLIGHT
TZOFFSETFROM:+0100
TZOFFSETTO:+0200
TZNAME:CEST
DTSTART:20270328T010000
END:DAYLIGHT
BEGIN:STANDARD
TZOFFSETFROM:+0200
TZOFFSETTO:+0100
TZNAME:CET
DTSTART:20271031T010000
END:STANDARD
END:VTIMEZONE
BEGIN:VEVENT
DTSTART;TZID=Europe/Berlin:20260610T114700
DTEND;TZID=Europe/Berlin:20260610T114700
DTSTAMP:20260425T181651
CREATED:20251231T090524Z
LAST-MODIFIED:20251231T173124Z
UID:28922-1781092020-1781092020@www.erc09.de
SUMMARY:Hochwasser
DESCRIPTION:Hochwasserzeiten für den Elmshorner Hafen Quelle: Bundesamt für Seeschifffahrt und Hydrographie (BSH)
URL:https://www.erc09.de/termin/hochwasser-2380/
CATEGORIES:Hochwasser
END:VEVENT
BEGIN:VEVENT
DTSTART;TZID=Europe/Berlin:20260610T170000
DTEND;TZID=Europe/Berlin:20260610T190000
DTSTAMP:20260425T181651
CREATED:20260410T194348Z
LAST-MODIFIED:20260410T194553Z
UID:30952-1781110800-1781118000@www.erc09.de
SUMMARY:Jugendtraining (alle Jg.)
DESCRIPTION:Weitere Infos zu den Terminen gibt es bei den Jugendbetreuern unter jugendsport@erc09.de.
URL:https://www.erc09.de/termin/jugendtraining-alle-jg-9/
CATEGORIES:Jugend
END:VEVENT
BEGIN:VEVENT
DTSTART;TZID=Europe/Berlin:20260610T190000
DTEND;TZID=Europe/Berlin:20260610T203000
DTSTAMP:20260425T181651
CREATED:20260419T101735Z
LAST-MODIFIED:20260419T101735Z
UID:31048-1781118000-1781123400@www.erc09.de
SUMMARY:Offenes Training Damen
DESCRIPTION:
URL:https://www.erc09.de/termin/offenes-training-damen-29/
CATEGORIES:Allgemein
END:VEVENT
END:VCALENDAR