BEGIN:VCALENDAR
VERSION:2.0
PRODID:-//Elmshorner Ruder-Club v. 1909 - ECPv6.15.20//NONSGML v1.0//EN
CALSCALE:GREGORIAN
METHOD:PUBLISH
X-ORIGINAL-URL:https://www.erc09.de
X-WR-CALDESC:Veranstaltungen für Elmshorner Ruder-Club v. 1909
REFRESH-INTERVAL;VALUE=DURATION:PT1H
X-Robots-Tag:noindex
X-PUBLISHED-TTL:PT1H
BEGIN:VTIMEZONE
TZID:Europe/Berlin
BEGIN:DAYLIGHT
TZOFFSETFROM:+0100
TZOFFSETTO:+0200
TZNAME:CEST
DTSTART:20250330T010000
END:DAYLIGHT
BEGIN:STANDARD
TZOFFSETFROM:+0200
TZOFFSETTO:+0100
TZNAME:CET
DTSTART:20251026T010000
END:STANDARD
BEGIN:DAYLIGHT
TZOFFSETFROM:+0100
TZOFFSETTO:+0200
TZNAME:CEST
DTSTART:20260329T010000
END:DAYLIGHT
BEGIN:STANDARD
TZOFFSETFROM:+0200
TZOFFSETTO:+0100
TZNAME:CET
DTSTART:20261025T010000
END:STANDARD
BEGIN:DAYLIGHT
TZOFFSETFROM:+0100
TZOFFSETTO:+0200
TZNAME:CEST
DTSTART:20270328T010000
END:DAYLIGHT
BEGIN:STANDARD
TZOFFSETFROM:+0200
TZOFFSETTO:+0100
TZNAME:CET
DTSTART:20271031T010000
END:STANDARD
END:VTIMEZONE
BEGIN:VEVENT
DTSTART;VALUE=DATE:20260530
DTEND;VALUE=DATE:20260601
DTSTAMP:20260425T144540
CREATED:20250910T132139Z
LAST-MODIFIED:20250910T132139Z
UID:27641-1780099200-1780271999@www.erc09.de
SUMMARY:TWE Lübeck
DESCRIPTION:Weitere Infos beim Team Leistungssport
URL:https://www.erc09.de/termin/twe-luebeck-6/
LOCATION:Lübecker Rudergesellschaft\, Hüxtertorallee 4\, Lübeck\, Schleswig-Holstein\, 23564\, Deutschland
CATEGORIES:Leistungssport
END:VEVENT
BEGIN:VEVENT
DTSTART;TZID=Europe/Berlin:20260531T044500
DTEND;TZID=Europe/Berlin:20260531T044500
DTSTAMP:20260425T144540
CREATED:20251231T090453Z
LAST-MODIFIED:20251231T173137Z
UID:28912-1780202700-1780202700@www.erc09.de
SUMMARY:Hochwasser
DESCRIPTION:Hochwasserzeiten für den Elmshorner Hafen Quelle: Bundesamt für Seeschifffahrt und Hydrographie (BSH)
URL:https://www.erc09.de/termin/hochwasser-2370/
CATEGORIES:Hochwasser
END:VEVENT
BEGIN:VEVENT
DTSTART;TZID=Europe/Berlin:20260531T150000
DTEND;TZID=Europe/Berlin:20260531T170500
DTSTAMP:20260425T144540
CREATED:20260102T094933Z
LAST-MODIFIED:20260102T104535Z
UID:30243-1780239600-1780247100@www.erc09.de
SUMMARY:Allgemeiner Rudertermin
DESCRIPTION:Die allgemeinen Rudertermine stellen Terminvorschläge dar und werden selbstständig organisiert.\nDie Erfahrung aus der Vergangenheit hat gezeigt\, dass der Ruderbetrieb auch ohne eine offizielle Stegaufsicht reibungslos funktioniert.\nFindet euch also vor Ort gerne zusammen und achtet darauf\, dass niemand bootlos am Steg stehen gelassen wird.\nFür weitere Fragen wendet euch gerne an das Team Freizeitsport (post@erc09.de)
URL:https://www.erc09.de/termin/allgemeiner-rudertermin-253/
LOCATION:Elmshorner Ruder-Club von 1909 e. V.\, Wisch 30\, Elmshorn\, Schleswig-Holstein\, 25336\, Deutschland
CATEGORIES:Freizeit
ORGANIZER;CN="Elmshorner Ruder-Club von 1909 e. V.":MAILTO:post@erc09.de
END:VEVENT
BEGIN:VEVENT
DTSTART;TZID=Europe/Berlin:20260531T170500
DTEND;TZID=Europe/Berlin:20260531T170500
DTSTAMP:20260425T144540
CREATED:20251231T162935Z
LAST-MODIFIED:20251231T173137Z
UID:29711-1780247100-1780247100@www.erc09.de
SUMMARY:Hochwasser
DESCRIPTION:Hochwasserzeiten für den Elmshorner Hafen Quelle: Bundesamt für Seeschifffahrt und Hydrographie (BSH)
URL:https://www.erc09.de/termin/hochwasser-2723/
CATEGORIES:Hochwasser
END:VEVENT
END:VCALENDAR