BEGIN:VCALENDAR
VERSION:2.0
PRODID:-//Elmshorner Ruder-Club v. 1909 - ECPv6.15.20//NONSGML v1.0//EN
CALSCALE:GREGORIAN
METHOD:PUBLISH
X-WR-CALNAME:Elmshorner Ruder-Club v. 1909
X-ORIGINAL-URL:https://www.erc09.de
X-WR-CALDESC:Veranstaltungen für Elmshorner Ruder-Club v. 1909
REFRESH-INTERVAL;VALUE=DURATION:PT1H
X-Robots-Tag:noindex
X-PUBLISHED-TTL:PT1H
BEGIN:VTIMEZONE
TZID:Europe/Berlin
BEGIN:DAYLIGHT
TZOFFSETFROM:+0100
TZOFFSETTO:+0200
TZNAME:CEST
DTSTART:20250330T010000
END:DAYLIGHT
BEGIN:STANDARD
TZOFFSETFROM:+0200
TZOFFSETTO:+0100
TZNAME:CET
DTSTART:20251026T010000
END:STANDARD
BEGIN:DAYLIGHT
TZOFFSETFROM:+0100
TZOFFSETTO:+0200
TZNAME:CEST
DTSTART:20260329T010000
END:DAYLIGHT
BEGIN:STANDARD
TZOFFSETFROM:+0200
TZOFFSETTO:+0100
TZNAME:CET
DTSTART:20261025T010000
END:STANDARD
BEGIN:DAYLIGHT
TZOFFSETFROM:+0100
TZOFFSETTO:+0200
TZNAME:CEST
DTSTART:20270328T010000
END:DAYLIGHT
BEGIN:STANDARD
TZOFFSETFROM:+0200
TZOFFSETTO:+0100
TZNAME:CET
DTSTART:20271031T010000
END:STANDARD
END:VTIMEZONE
BEGIN:VEVENT
DTSTART;VALUE=DATE:20260522
DTEND;VALUE=DATE:20260525
DTSTAMP:20260425T145445
CREATED:20250910T131848Z
LAST-MODIFIED:20250910T131848Z
UID:27636-1779408000-1779667199@www.erc09.de
SUMMARY:Regatta Otterndorf
DESCRIPTION:Weitere Infos beim Team Leistungssport
URL:https://www.erc09.de/termin/regatta-otterndorf/
LOCATION:Regattastrecke Otterndorf\, Beufleth 3\, Otterndorf\, Niedersachsen\, 21762\, Deutschland
CATEGORIES:Regatta
END:VEVENT
BEGIN:VEVENT
DTSTART;VALUE=DATE:20260522
DTEND;VALUE=DATE:20260525
DTSTAMP:20260425T145445
CREATED:20250910T132021Z
LAST-MODIFIED:20250910T132021Z
UID:27638-1779408000-1779667199@www.erc09.de
SUMMARY:Juniorenregatta Köln
DESCRIPTION:Weitere Infos beim Team Leistungssport
URL:https://www.erc09.de/termin/juniorenregatta-koeln/
LOCATION:regattastrecke Köln\, Oranjehofstraße 103\, Köln\, 50769
CATEGORIES:Regatta
END:VEVENT
BEGIN:VEVENT
DTSTART;TZID=Europe/Berlin:20260523T073000
DTEND;TZID=Europe/Berlin:20260523T095100
DTSTAMP:20260425T145445
CREATED:20260102T094733Z
LAST-MODIFIED:20260102T104531Z
UID:30240-1779521400-1779529860@www.erc09.de
SUMMARY:Allgemeiner Rudertermin
DESCRIPTION:Die allgemeinen Rudertermine stellen Terminvorschläge dar und werden selbstständig organisiert.\nDie Erfahrung aus der Vergangenheit hat gezeigt\, dass der Ruderbetrieb auch ohne eine offizielle Stegaufsicht reibungslos funktioniert.\nFindet euch also vor Ort gerne zusammen und achtet darauf\, dass niemand bootlos am Steg stehen gelassen wird.\nFür weitere Fragen wendet euch gerne an das Team Freizeitsport (post@erc09.de)
URL:https://www.erc09.de/termin/allgemeiner-rudertermin-250/
LOCATION:Elmshorner Ruder-Club von 1909 e. V.\, Wisch 30\, Elmshorn\, Schleswig-Holstein\, 25336\, Deutschland
CATEGORIES:Freizeit
ORGANIZER;CN="Elmshorner Ruder-Club von 1909 e. V.":MAILTO:post@erc09.de
END:VEVENT
BEGIN:VEVENT
DTSTART;TZID=Europe/Berlin:20260523T095100
DTEND;TZID=Europe/Berlin:20260523T095100
DTSTAMP:20260425T145445
CREATED:20251231T090425Z
LAST-MODIFIED:20251231T173137Z
UID:28905-1779529860-1779529860@www.erc09.de
SUMMARY:Hochwasser
DESCRIPTION:Hochwasserzeiten für den Elmshorner Hafen Quelle: Bundesamt für Seeschifffahrt und Hydrographie (BSH)
URL:https://www.erc09.de/termin/hochwasser-2363/
CATEGORIES:Hochwasser
END:VEVENT
BEGIN:VEVENT
DTSTART;TZID=Europe/Berlin:20260523T100000
DTEND;TZID=Europe/Berlin:20260523T200000
DTSTAMP:20260425T145445
CREATED:20260315T153941Z
LAST-MODIFIED:20260315T183805Z
UID:30839-1779530400-1779566400@www.erc09.de
SUMMARY:Elbtour Richtung Krautsand
DESCRIPTION:
URL:https://www.erc09.de/termin/elbtour-richtung-krautsand/
LOCATION:Elmshorner Ruder-Club von 1909 e. V.\, Wisch 30\, Elmshorn\, Schleswig-Holstein\, 25336\, Deutschland
CATEGORIES:Fahrten
ORGANIZER;CN="Elmshorner Ruder-Club von 1909 e. V.":MAILTO:post@erc09.de
END:VEVENT
BEGIN:VEVENT
DTSTART;TZID=Europe/Berlin:20260523T220300
DTEND;TZID=Europe/Berlin:20260523T220300
DTSTAMP:20260425T145445
CREATED:20251231T162918Z
LAST-MODIFIED:20251231T173137Z
UID:29703-1779573780-1779573780@www.erc09.de
SUMMARY:Hochwasser
DESCRIPTION:Hochwasserzeiten für den Elmshorner Hafen Quelle: Bundesamt für Seeschifffahrt und Hydrographie (BSH)
URL:https://www.erc09.de/termin/hochwasser-2715/
CATEGORIES:Hochwasser
END:VEVENT
END:VCALENDAR