BEGIN:VCALENDAR
VERSION:2.0
PRODID:-//Elmshorner Ruder-Club v. 1909 - ECPv6.15.20//NONSGML v1.0//EN
CALSCALE:GREGORIAN
METHOD:PUBLISH
X-WR-CALNAME:Elmshorner Ruder-Club v. 1909
X-ORIGINAL-URL:https://www.erc09.de
X-WR-CALDESC:Veranstaltungen für Elmshorner Ruder-Club v. 1909
REFRESH-INTERVAL;VALUE=DURATION:PT1H
X-Robots-Tag:noindex
X-PUBLISHED-TTL:PT1H
BEGIN:VTIMEZONE
TZID:Europe/Berlin
BEGIN:DAYLIGHT
TZOFFSETFROM:+0100
TZOFFSETTO:+0200
TZNAME:CEST
DTSTART:20250330T010000
END:DAYLIGHT
BEGIN:STANDARD
TZOFFSETFROM:+0200
TZOFFSETTO:+0100
TZNAME:CET
DTSTART:20251026T010000
END:STANDARD
BEGIN:DAYLIGHT
TZOFFSETFROM:+0100
TZOFFSETTO:+0200
TZNAME:CEST
DTSTART:20260329T010000
END:DAYLIGHT
BEGIN:STANDARD
TZOFFSETFROM:+0200
TZOFFSETTO:+0100
TZNAME:CET
DTSTART:20261025T010000
END:STANDARD
BEGIN:DAYLIGHT
TZOFFSETFROM:+0100
TZOFFSETTO:+0200
TZNAME:CEST
DTSTART:20270328T010000
END:DAYLIGHT
BEGIN:STANDARD
TZOFFSETFROM:+0200
TZOFFSETTO:+0100
TZNAME:CET
DTSTART:20271031T010000
END:STANDARD
END:VTIMEZONE
BEGIN:VEVENT
DTSTART;VALUE=DATE:20260508
DTEND;VALUE=DATE:20260511
DTSTAMP:20260425T183450
CREATED:20250910T131728Z
LAST-MODIFIED:20250910T131728Z
UID:27632-1778198400-1778457599@www.erc09.de
SUMMARY:Regatta Bremen
DESCRIPTION:Weitere Infos beim Team Leistungssport
URL:https://www.erc09.de/termin/regatta-bremen/
LOCATION:Werdersee\, Weg zum Krähenberg 33a\, Bremen
CATEGORIES:Regatta
END:VEVENT
BEGIN:VEVENT
DTSTART;TZID=Europe/Berlin:20260510T080000
DTEND;TZID=Europe/Berlin:20260510T100700
DTSTAMP:20260425T183450
CREATED:20260102T094532Z
LAST-MODIFIED:20260102T104528Z
UID:30232-1778400000-1778407620@www.erc09.de
SUMMARY:Allgemeiner Rudertermin
DESCRIPTION:Die allgemeinen Rudertermine stellen Terminvorschläge dar und werden selbstständig organisiert.\nDie Erfahrung aus der Vergangenheit hat gezeigt\, dass der Ruderbetrieb auch ohne eine offizielle Stegaufsicht reibungslos funktioniert.\nFindet euch also vor Ort gerne zusammen und achtet darauf\, dass niemand bootlos am Steg stehen gelassen wird.\nFür weitere Fragen wendet euch gerne an das Team Freizeitsport (post@erc09.de)
URL:https://www.erc09.de/termin/allgemeiner-rudertermin-242/
LOCATION:Elmshorner Ruder-Club von 1909 e. V.\, Wisch 30\, Elmshorn\, Schleswig-Holstein\, 25336\, Deutschland
CATEGORIES:Freizeit
ORGANIZER;CN="Elmshorner Ruder-Club von 1909 e. V.":MAILTO:post@erc09.de
END:VEVENT
BEGIN:VEVENT
DTSTART;TZID=Europe/Berlin:20260510T100700
DTEND;TZID=Europe/Berlin:20260510T100700
DTSTAMP:20260425T183450
CREATED:20251231T090354Z
LAST-MODIFIED:20251231T173138Z
UID:28893-1778407620-1778407620@www.erc09.de
SUMMARY:Hochwasser
DESCRIPTION:Hochwasserzeiten für den Elmshorner Hafen Quelle: Bundesamt für Seeschifffahrt und Hydrographie (BSH)
URL:https://www.erc09.de/termin/hochwasser-2351/
CATEGORIES:Hochwasser
END:VEVENT
BEGIN:VEVENT
DTSTART;TZID=Europe/Berlin:20260510T222700
DTEND;TZID=Europe/Berlin:20260510T222700
DTSTAMP:20260425T183450
CREATED:20251231T162834Z
LAST-MODIFIED:20251231T173138Z
UID:29690-1778452020-1778452020@www.erc09.de
SUMMARY:Hochwasser
DESCRIPTION:Hochwasserzeiten für den Elmshorner Hafen Quelle: Bundesamt für Seeschifffahrt und Hydrographie (BSH)
URL:https://www.erc09.de/termin/hochwasser-2702/
CATEGORIES:Hochwasser
END:VEVENT
END:VCALENDAR