BEGIN:VCALENDAR
VERSION:2.0
PRODID:-//Elmshorner Ruder-Club v. 1909 - ECPv6.15.20//NONSGML v1.0//EN
CALSCALE:GREGORIAN
METHOD:PUBLISH
X-WR-CALNAME:Elmshorner Ruder-Club v. 1909
X-ORIGINAL-URL:https://www.erc09.de
X-WR-CALDESC:Veranstaltungen für Elmshorner Ruder-Club v. 1909
REFRESH-INTERVAL;VALUE=DURATION:PT1H
X-Robots-Tag:noindex
X-PUBLISHED-TTL:PT1H
BEGIN:VTIMEZONE
TZID:Europe/Berlin
BEGIN:DAYLIGHT
TZOFFSETFROM:+0100
TZOFFSETTO:+0200
TZNAME:CEST
DTSTART:20250330T010000
END:DAYLIGHT
BEGIN:STANDARD
TZOFFSETFROM:+0200
TZOFFSETTO:+0100
TZNAME:CET
DTSTART:20251026T010000
END:STANDARD
BEGIN:DAYLIGHT
TZOFFSETFROM:+0100
TZOFFSETTO:+0200
TZNAME:CEST
DTSTART:20260329T010000
END:DAYLIGHT
BEGIN:STANDARD
TZOFFSETFROM:+0200
TZOFFSETTO:+0100
TZNAME:CET
DTSTART:20261025T010000
END:STANDARD
BEGIN:DAYLIGHT
TZOFFSETFROM:+0100
TZOFFSETTO:+0200
TZNAME:CEST
DTSTART:20270328T010000
END:DAYLIGHT
BEGIN:STANDARD
TZOFFSETFROM:+0200
TZOFFSETTO:+0100
TZNAME:CET
DTSTART:20271031T010000
END:STANDARD
END:VTIMEZONE
BEGIN:VEVENT
DTSTART;VALUE=DATE:20260423
DTEND;VALUE=DATE:20260427
DTSTAMP:20260425T130837
CREATED:20260419T171424Z
LAST-MODIFIED:20260419T171424Z
UID:31054-1776902400-1777247999@www.erc09.de
SUMMARY:Masters Trainingslager Ratzeburg
DESCRIPTION:
URL:https://www.erc09.de/termin/masters-trainingslager-ratzeburg/
CATEGORIES:Allgemein
END:VEVENT
BEGIN:VEVENT
DTSTART;TZID=Europe/Berlin:20260424T093000
DTEND;TZID=Europe/Berlin:20260424T110000
DTSTAMP:20260425T130837
CREATED:20251101T171635Z
LAST-MODIFIED:20251102T072600Z
UID:28301-1777023000-1777028400@www.erc09.de
SUMMARY:Training Senioren
DESCRIPTION:Weitere Infos unter post@erc09.de
URL:https://www.erc09.de/termin/training-senioren-86/
CATEGORIES:Freizeit
END:VEVENT
BEGIN:VEVENT
DTSTART;TZID=Europe/Berlin:20260424T095400
DTEND;TZID=Europe/Berlin:20260424T095400
DTSTAMP:20260425T130837
CREATED:20251231T090309Z
LAST-MODIFIED:20251231T173138Z
UID:28878-1777024440-1777024440@www.erc09.de
SUMMARY:Hochwasser
DESCRIPTION:Hochwasserzeiten für den Elmshorner Hafen Quelle: Bundesamt für Seeschifffahrt und Hydrographie (BSH)
URL:https://www.erc09.de/termin/hochwasser-2336/
CATEGORIES:Hochwasser
END:VEVENT
BEGIN:VEVENT
DTSTART;TZID=Europe/Berlin:20260424T170000
DTEND;TZID=Europe/Berlin:20260424T190000
DTSTAMP:20260425T130837
CREATED:20260410T194333Z
LAST-MODIFIED:20260410T194553Z
UID:30946-1777050000-1777057200@www.erc09.de
SUMMARY:Jugendtraining (alle Jg.)
DESCRIPTION:Weitere Infos zu den Terminen gibt es bei den Jugendbetreuern unter jugendsport@erc09.de.
URL:https://www.erc09.de/termin/jugendtraining-alle-jg-3/
CATEGORIES:Jugend
END:VEVENT
BEGIN:VEVENT
DTSTART;TZID=Europe/Berlin:20260424T221000
DTEND;TZID=Europe/Berlin:20260424T221000
DTSTAMP:20260425T130837
CREATED:20251231T162749Z
LAST-MODIFIED:20251231T173138Z
UID:29674-1777068600-1777068600@www.erc09.de
SUMMARY:Hochwasser
DESCRIPTION:Hochwasserzeiten für den Elmshorner Hafen Quelle: Bundesamt für Seeschifffahrt und Hydrographie (BSH)
URL:https://www.erc09.de/termin/hochwasser-2686/
CATEGORIES:Hochwasser
END:VEVENT
END:VCALENDAR