BEGIN:VCALENDAR
VERSION:2.0
PRODID:-//Elmshorner Ruder-Club v. 1909 - ECPv6.15.20//NONSGML v1.0//EN
CALSCALE:GREGORIAN
METHOD:PUBLISH
X-WR-CALNAME:Elmshorner Ruder-Club v. 1909
X-ORIGINAL-URL:https://www.erc09.de
X-WR-CALDESC:Veranstaltungen für Elmshorner Ruder-Club v. 1909
REFRESH-INTERVAL;VALUE=DURATION:PT1H
X-Robots-Tag:noindex
X-PUBLISHED-TTL:PT1H
BEGIN:VTIMEZONE
TZID:Europe/Berlin
BEGIN:DAYLIGHT
TZOFFSETFROM:+0100
TZOFFSETTO:+0200
TZNAME:CEST
DTSTART:20250330T010000
END:DAYLIGHT
BEGIN:STANDARD
TZOFFSETFROM:+0200
TZOFFSETTO:+0100
TZNAME:CET
DTSTART:20251026T010000
END:STANDARD
BEGIN:DAYLIGHT
TZOFFSETFROM:+0100
TZOFFSETTO:+0200
TZNAME:CEST
DTSTART:20260329T010000
END:DAYLIGHT
BEGIN:STANDARD
TZOFFSETFROM:+0200
TZOFFSETTO:+0100
TZNAME:CET
DTSTART:20261025T010000
END:STANDARD
BEGIN:DAYLIGHT
TZOFFSETFROM:+0100
TZOFFSETTO:+0200
TZNAME:CEST
DTSTART:20270328T010000
END:DAYLIGHT
BEGIN:STANDARD
TZOFFSETFROM:+0200
TZOFFSETTO:+0100
TZNAME:CET
DTSTART:20271031T010000
END:STANDARD
END:VTIMEZONE
BEGIN:VEVENT
DTSTART;TZID=Europe/Berlin:20260417T042800
DTEND;TZID=Europe/Berlin:20260417T042800
DTSTAMP:20260419T204734
CREATED:20251231T083940Z
LAST-MODIFIED:20251231T173139Z
UID:28871-1776400080-1776400080@www.erc09.de
SUMMARY:Hochwasser
DESCRIPTION:Hochwasserzeiten für den Elmshorner Hafen Quelle: Bundesamt für Seeschifffahrt und Hydrographie (BSH)
URL:https://www.erc09.de/termin/hochwasser-2329/
CATEGORIES:Hochwasser
END:VEVENT
BEGIN:VEVENT
DTSTART;TZID=Europe/Berlin:20260417T093000
DTEND;TZID=Europe/Berlin:20260417T110000
DTSTAMP:20260419T204734
CREATED:20251101T171635Z
LAST-MODIFIED:20251102T072600Z
UID:28300-1776418200-1776423600@www.erc09.de
SUMMARY:Training Senioren
DESCRIPTION:Weitere Infos unter post@erc09.de
URL:https://www.erc09.de/termin/training-senioren-85/
CATEGORIES:Freizeit
END:VEVENT
BEGIN:VEVENT
DTSTART;TZID=Europe/Berlin:20260417T150000
DTEND;TZID=Europe/Berlin:20260417T180000
DTSTAMP:20260419T204734
CREATED:20260410T194301Z
LAST-MODIFIED:20260410T194544Z
UID:30916-1776438000-1776448800@www.erc09.de
SUMMARY:Jugendrudertermin (alle Jg.)
DESCRIPTION:Weitere Infos zu den Terminen gibt es bei den Jugendbetreuern unter jugendsport@erc09.de.
URL:https://www.erc09.de/termin/jugendrudertermin-alle-jg/
CATEGORIES:Jugend
END:VEVENT
BEGIN:VEVENT
DTSTART;TZID=Europe/Berlin:20260417T170200
DTEND;TZID=Europe/Berlin:20260417T170200
DTSTAMP:20260419T204734
CREATED:20251231T162720Z
LAST-MODIFIED:20251231T173139Z
UID:29667-1776445320-1776445320@www.erc09.de
SUMMARY:Hochwasser
DESCRIPTION:Hochwasserzeiten für den Elmshorner Hafen Quelle: Bundesamt für Seeschifffahrt und Hydrographie (BSH)
URL:https://www.erc09.de/termin/hochwasser-2679/
CATEGORIES:Hochwasser
END:VEVENT
END:VCALENDAR