BEGIN:VCALENDAR
VERSION:2.0
PRODID:-//Elmshorner Ruder-Club v. 1909 - ECPv6.15.20//NONSGML v1.0//EN
CALSCALE:GREGORIAN
METHOD:PUBLISH
X-ORIGINAL-URL:https://www.erc09.de
X-WR-CALDESC:Veranstaltungen für Elmshorner Ruder-Club v. 1909
REFRESH-INTERVAL;VALUE=DURATION:PT1H
X-Robots-Tag:noindex
X-PUBLISHED-TTL:PT1H
BEGIN:VTIMEZONE
TZID:Europe/Berlin
BEGIN:DAYLIGHT
TZOFFSETFROM:+0100
TZOFFSETTO:+0200
TZNAME:CEST
DTSTART:20250330T010000
END:DAYLIGHT
BEGIN:STANDARD
TZOFFSETFROM:+0200
TZOFFSETTO:+0100
TZNAME:CET
DTSTART:20251026T010000
END:STANDARD
BEGIN:DAYLIGHT
TZOFFSETFROM:+0100
TZOFFSETTO:+0200
TZNAME:CEST
DTSTART:20260329T010000
END:DAYLIGHT
BEGIN:STANDARD
TZOFFSETFROM:+0200
TZOFFSETTO:+0100
TZNAME:CET
DTSTART:20261025T010000
END:STANDARD
BEGIN:DAYLIGHT
TZOFFSETFROM:+0100
TZOFFSETTO:+0200
TZNAME:CEST
DTSTART:20270328T010000
END:DAYLIGHT
BEGIN:STANDARD
TZOFFSETFROM:+0200
TZOFFSETTO:+0100
TZNAME:CET
DTSTART:20271031T010000
END:STANDARD
END:VTIMEZONE
BEGIN:VEVENT
DTSTART;TZID=Europe/Berlin:20260407T075000
DTEND;TZID=Europe/Berlin:20260407T075000
DTSTAMP:20260419T205811
CREATED:20251231T083540Z
LAST-MODIFIED:20251231T173139Z
UID:28861-1775548200-1775548200@www.erc09.de
SUMMARY:Hochwasser
DESCRIPTION:Hochwasserzeiten für den Elmshorner Hafen Quelle: Bundesamt für Seeschifffahrt und Hydrographie (BSH)
URL:https://www.erc09.de/termin/hochwasser-2319/
CATEGORIES:Hochwasser
END:VEVENT
BEGIN:VEVENT
DTSTART;TZID=Europe/Berlin:20260407T093000
DTEND;TZID=Europe/Berlin:20260407T110000
DTSTAMP:20260419T205811
CREATED:20251101T155545Z
LAST-MODIFIED:20251102T072600Z
UID:27958-1775554200-1775559600@www.erc09.de
SUMMARY:Training Senioren
DESCRIPTION:Weitere Infos unter post@erc09.de
URL:https://www.erc09.de/termin/training-senioren-23/
CATEGORIES:Freizeit
END:VEVENT
BEGIN:VEVENT
DTSTART;TZID=Europe/Berlin:20260407T173000
DTEND;TZID=Europe/Berlin:20260407T195800
DTSTAMP:20260419T205811
CREATED:20260102T094224Z
LAST-MODIFIED:20260102T104229Z
UID:30212-1775583000-1775591880@www.erc09.de
SUMMARY:Allgemeiner Rudertermin
DESCRIPTION:Die allgemeinen Rudertermine stellen Terminvorschläge dar und werden selbstständig organisiert.\nDie Erfahrung aus der Vergangenheit hat gezeigt\, dass der Ruderbetrieb auch ohne eine offizielle Stegaufsicht reibungslos funktioniert.\nFindet euch also vor Ort gerne zusammen und achtet darauf\, dass niemand bootlos am Steg stehen gelassen wird.\nFür weitere Fragen wendet euch gerne an das Team Freizeitsport (post@erc09.de)
URL:https://www.erc09.de/termin/allgemeiner-rudertermin-222/
LOCATION:Elmshorner Ruder-Club von 1909 e. V.\, Wisch 30\, Elmshorn\, Schleswig-Holstein\, 25336\, Deutschland
CATEGORIES:Freizeit
ORGANIZER;CN="Elmshorner Ruder-Club von 1909 e. V.":MAILTO:post@erc09.de
END:VEVENT
BEGIN:VEVENT
DTSTART;TZID=Europe/Berlin:20260407T193000
DTEND;TZID=Europe/Berlin:20260407T210000
DTSTAMP:20260419T205811
CREATED:20251101T160007Z
LAST-MODIFIED:20251102T072600Z
UID:28040-1775590200-1775595600@www.erc09.de
SUMMARY:offenes Training Herren
DESCRIPTION:Kraft- und Ergotraining  Weitere Infos unter post@erc09.de
URL:https://www.erc09.de/termin/offenes-training-herren-23/
CATEGORIES:Freizeit
END:VEVENT
BEGIN:VEVENT
DTSTART;TZID=Europe/Berlin:20260407T195800
DTEND;TZID=Europe/Berlin:20260407T195800
DTSTAMP:20260419T205811
CREATED:20251231T162703Z
LAST-MODIFIED:20251231T173139Z
UID:29658-1775591880-1775591880@www.erc09.de
SUMMARY:Hochwasser
DESCRIPTION:Hochwasserzeiten für den Elmshorner Hafen Quelle: Bundesamt für Seeschifffahrt und Hydrographie (BSH)
URL:https://www.erc09.de/termin/hochwasser-2670/
CATEGORIES:Hochwasser
END:VEVENT
END:VCALENDAR