BEGIN:VCALENDAR
VERSION:2.0
PRODID:-//Elmshorner Ruder-Club v. 1909 - ECPv6.15.20//NONSGML v1.0//EN
CALSCALE:GREGORIAN
METHOD:PUBLISH
X-ORIGINAL-URL:https://www.erc09.de
X-WR-CALDESC:Veranstaltungen für Elmshorner Ruder-Club v. 1909
REFRESH-INTERVAL;VALUE=DURATION:PT1H
X-Robots-Tag:noindex
X-PUBLISHED-TTL:PT1H
BEGIN:VTIMEZONE
TZID:Europe/Berlin
BEGIN:DAYLIGHT
TZOFFSETFROM:+0100
TZOFFSETTO:+0200
TZNAME:CEST
DTSTART:20250330T010000
END:DAYLIGHT
BEGIN:STANDARD
TZOFFSETFROM:+0200
TZOFFSETTO:+0100
TZNAME:CET
DTSTART:20251026T010000
END:STANDARD
BEGIN:DAYLIGHT
TZOFFSETFROM:+0100
TZOFFSETTO:+0200
TZNAME:CEST
DTSTART:20260329T010000
END:DAYLIGHT
BEGIN:STANDARD
TZOFFSETFROM:+0200
TZOFFSETTO:+0100
TZNAME:CET
DTSTART:20261025T010000
END:STANDARD
BEGIN:DAYLIGHT
TZOFFSETFROM:+0100
TZOFFSETTO:+0200
TZNAME:CEST
DTSTART:20270328T010000
END:DAYLIGHT
BEGIN:STANDARD
TZOFFSETFROM:+0200
TZOFFSETTO:+0100
TZNAME:CET
DTSTART:20271031T010000
END:STANDARD
END:VTIMEZONE
BEGIN:VEVENT
DTSTART;VALUE=DATE:20260330
DTEND;VALUE=DATE:20260405
DTSTAMP:20260419T204948
CREATED:20250910T131513Z
LAST-MODIFIED:20250910T131513Z
UID:27628-1774828800-1775347199@www.erc09.de
SUMMARY:Förderwoche Ratzeburg
DESCRIPTION:Weitere Infos beim Team Leistungssport
URL:https://www.erc09.de/termin/foerderwoche-ratzeburg-2/
LOCATION:Ruderakademie des Deutschen Ruderverbandes\, Domhof 37\, Ratzeburg\, Schleswig-Holstein\, 23909\, Deutschland
CATEGORIES:Leistungssport
END:VEVENT
BEGIN:VEVENT
DTSTART;TZID=Europe/Berlin:20260402T050600
DTEND;TZID=Europe/Berlin:20260402T050600
DTSTAMP:20260419T204948
CREATED:20251231T083339Z
LAST-MODIFIED:20251231T173139Z
UID:28856-1775106360-1775106360@www.erc09.de
SUMMARY:Hochwasser
DESCRIPTION:Hochwasserzeiten für den Elmshorner Hafen Quelle: Bundesamt für Seeschifffahrt und Hydrographie (BSH)
URL:https://www.erc09.de/termin/hochwasser-2314/
CATEGORIES:Hochwasser
END:VEVENT
BEGIN:VEVENT
DTSTART;TZID=Europe/Berlin:20260402T150000
DTEND;TZID=Europe/Berlin:20260402T180000
DTSTAMP:20260419T204948
CREATED:20260323T111149Z
LAST-MODIFIED:20260323T111149Z
UID:30879-1775142000-1775152800@www.erc09.de
SUMMARY:ERC Ruder-Schnupperkurs für Kinder und Jugendliche
DESCRIPTION:weitere Informationen unter jugendsport@erc09.de
URL:https://www.erc09.de/termin/erc-ruder-schnupperkurs-fuer-kinder-und-jugendliche-3/
LOCATION:Elmshorner Ruder-Club von 1909 e. V.\, Wisch 30\, Elmshorn\, Schleswig-Holstein\, 25336\, Deutschland
CATEGORIES:Jugend
ORGANIZER;CN="Elmshorner Ruder-Club von 1909 e. V.":MAILTO:post@erc09.de
END:VEVENT
BEGIN:VEVENT
DTSTART;TZID=Europe/Berlin:20260402T153000
DTEND;TZID=Europe/Berlin:20260402T173500
DTSTAMP:20260419T204948
CREATED:20260102T094209Z
LAST-MODIFIED:20260102T104103Z
UID:30207-1775143800-1775151300@www.erc09.de
SUMMARY:Allgemeiner Rudertermin
DESCRIPTION:Die allgemeinen Rudertermine stellen Terminvorschläge dar und werden selbstständig organisiert.\nDie Erfahrung aus der Vergangenheit hat gezeigt\, dass der Ruderbetrieb auch ohne eine offizielle Stegaufsicht reibungslos funktioniert.\nFindet euch also vor Ort gerne zusammen und achtet darauf\, dass niemand bootlos am Steg stehen gelassen wird.\nFür weitere Fragen wendet euch gerne an das Team Freizeitsport (post@erc09.de)
URL:https://www.erc09.de/termin/allgemeiner-rudertermin-217/
LOCATION:Elmshorner Ruder-Club von 1909 e. V.\, Wisch 30\, Elmshorn\, Schleswig-Holstein\, 25336\, Deutschland
CATEGORIES:Freizeit
ORGANIZER;CN="Elmshorner Ruder-Club von 1909 e. V.":MAILTO:post@erc09.de
END:VEVENT
BEGIN:VEVENT
DTSTART;TZID=Europe/Berlin:20260402T173500
DTEND;TZID=Europe/Berlin:20260402T173500
DTSTAMP:20260419T204948
CREATED:20251231T092825Z
LAST-MODIFIED:20251231T173139Z
UID:29207-1775151300-1775151300@www.erc09.de
SUMMARY:Hochwasser
DESCRIPTION:Hochwasserzeiten für den Elmshorner Hafen Quelle: Bundesamt für Seeschifffahrt und Hydrographie (BSH)
URL:https://www.erc09.de/termin/hochwasser-2665/
CATEGORIES:Hochwasser
END:VEVENT
BEGIN:VEVENT
DTSTART;TZID=Europe/Berlin:20260402T190000
DTEND;TZID=Europe/Berlin:20260402T210000
DTSTAMP:20260419T204948
CREATED:20260315T155508Z
LAST-MODIFIED:20260315T155508Z
UID:30850-1775156400-1775163600@www.erc09.de
SUMMARY:Osterfeuer
DESCRIPTION:
URL:https://www.erc09.de/termin/osterfeuer/
CATEGORIES:Allgemein,Veranstaltungen
END:VEVENT
BEGIN:VEVENT
DTSTART;TZID=Europe/Berlin:20260402T193000
DTEND;TZID=Europe/Berlin:20260402T213000
DTSTAMP:20260419T204948
CREATED:20251101T162757Z
LAST-MODIFIED:20251102T072600Z
UID:28189-1775158200-1775165400@www.erc09.de
SUMMARY:Training Masters
DESCRIPTION:Kraft- und Ergotraining  Weitere Infos unter post@erc09.de
URL:https://www.erc09.de/termin/training-masters-22/
CATEGORIES:Freizeit
END:VEVENT
END:VCALENDAR