BEGIN:VCALENDAR
VERSION:2.0
PRODID:-//Elmshorner Ruder-Club v. 1909 - ECPv6.15.20//NONSGML v1.0//EN
CALSCALE:GREGORIAN
METHOD:PUBLISH
X-WR-CALNAME:Elmshorner Ruder-Club v. 1909
X-ORIGINAL-URL:https://www.erc09.de
X-WR-CALDESC:Veranstaltungen für Elmshorner Ruder-Club v. 1909
REFRESH-INTERVAL;VALUE=DURATION:PT1H
X-Robots-Tag:noindex
X-PUBLISHED-TTL:PT1H
BEGIN:VTIMEZONE
TZID:Europe/Berlin
BEGIN:DAYLIGHT
TZOFFSETFROM:+0100
TZOFFSETTO:+0200
TZNAME:CEST
DTSTART:20250330T010000
END:DAYLIGHT
BEGIN:STANDARD
TZOFFSETFROM:+0200
TZOFFSETTO:+0100
TZNAME:CET
DTSTART:20251026T010000
END:STANDARD
BEGIN:DAYLIGHT
TZOFFSETFROM:+0100
TZOFFSETTO:+0200
TZNAME:CEST
DTSTART:20260329T010000
END:DAYLIGHT
BEGIN:STANDARD
TZOFFSETFROM:+0200
TZOFFSETTO:+0100
TZNAME:CET
DTSTART:20261025T010000
END:STANDARD
BEGIN:DAYLIGHT
TZOFFSETFROM:+0100
TZOFFSETTO:+0200
TZNAME:CEST
DTSTART:20270328T010000
END:DAYLIGHT
BEGIN:STANDARD
TZOFFSETFROM:+0200
TZOFFSETTO:+0100
TZNAME:CET
DTSTART:20271031T010000
END:STANDARD
END:VTIMEZONE
BEGIN:VEVENT
DTSTART;TZID=Europe/Berlin:20260304T043300
DTEND;TZID=Europe/Berlin:20260304T043300
DTSTAMP:20260420T000911
CREATED:20251231T083024Z
LAST-MODIFIED:20251231T173140Z
UID:28827-1772598780-1772598780@www.erc09.de
SUMMARY:Hochwasser
DESCRIPTION:Hochwasserzeiten für den Elmshorner Hafen Quelle: Bundesamt für Seeschifffahrt und Hydrographie (BSH)
URL:https://www.erc09.de/termin/hochwasser-2285/
CATEGORIES:Hochwasser
END:VEVENT
BEGIN:VEVENT
DTSTART;TZID=Europe/Berlin:20260304T160000
DTEND;TZID=Europe/Berlin:20260304T173000
DTSTAMP:20260420T000911
CREATED:20251101T161244Z
LAST-MODIFIED:20251102T072601Z
UID:28096-1772640000-1772645400@www.erc09.de
SUMMARY:Jugendtraining (Kinder bis Jg. 2012)
DESCRIPTION:Kraft- und Ergotraining  Weitere Infos unter jugendsport@erc09.de
URL:https://www.erc09.de/termin/jugendtraining-kinder-bis-jg-2012-18/
CATEGORIES:Jugend
END:VEVENT
BEGIN:VEVENT
DTSTART;TZID=Europe/Berlin:20260304T170600
DTEND;TZID=Europe/Berlin:20260304T170600
DTSTAMP:20260420T000911
CREATED:20251231T092656Z
LAST-MODIFIED:20251231T173140Z
UID:29180-1772643960-1772643960@www.erc09.de
SUMMARY:Hochwasser
DESCRIPTION:Hochwasserzeiten für den Elmshorner Hafen Quelle: Bundesamt für Seeschifffahrt und Hydrographie (BSH)
URL:https://www.erc09.de/termin/hochwasser-2638/
CATEGORIES:Hochwasser
END:VEVENT
BEGIN:VEVENT
DTSTART;TZID=Europe/Berlin:20260304T173000
DTEND;TZID=Europe/Berlin:20260304T190000
DTSTAMP:20260420T000911
CREATED:20251101T162428Z
LAST-MODIFIED:20251102T072601Z
UID:28122-1772645400-1772650800@www.erc09.de
SUMMARY:Jugendtraining (Junior*innen A und B)
DESCRIPTION:Kraft- und Ergotraining  Weitere Infos unter jugendsport@erc09.de
URL:https://www.erc09.de/termin/jugendtraining-juniorinnen-a-und-b-39/
CATEGORIES:Jugend
END:VEVENT
BEGIN:VEVENT
DTSTART;TZID=Europe/Berlin:20260304T190000
DTEND;TZID=Europe/Berlin:20260304T203000
DTSTAMP:20260420T000911
CREATED:20251101T162542Z
LAST-MODIFIED:20251102T072601Z
UID:28143-1772650800-1772656200@www.erc09.de
SUMMARY:offenes Training Damen
DESCRIPTION:Kraft- und Ergotraining  Weitere Infos unter post@erc09.de
URL:https://www.erc09.de/termin/offenes-training-damen-18/
CATEGORIES:Freizeit
END:VEVENT
END:VCALENDAR