BEGIN:VCALENDAR
VERSION:2.0
PRODID:-//Elmshorner Ruder-Club v. 1909 - ECPv6.15.20//NONSGML v1.0//EN
CALSCALE:GREGORIAN
METHOD:PUBLISH
X-ORIGINAL-URL:https://www.erc09.de
X-WR-CALDESC:Veranstaltungen für Elmshorner Ruder-Club v. 1909
REFRESH-INTERVAL;VALUE=DURATION:PT1H
X-Robots-Tag:noindex
X-PUBLISHED-TTL:PT1H
BEGIN:VTIMEZONE
TZID:Europe/Berlin
BEGIN:DAYLIGHT
TZOFFSETFROM:+0100
TZOFFSETTO:+0200
TZNAME:CEST
DTSTART:20250330T010000
END:DAYLIGHT
BEGIN:STANDARD
TZOFFSETFROM:+0200
TZOFFSETTO:+0100
TZNAME:CET
DTSTART:20251026T010000
END:STANDARD
BEGIN:DAYLIGHT
TZOFFSETFROM:+0100
TZOFFSETTO:+0200
TZNAME:CEST
DTSTART:20260329T010000
END:DAYLIGHT
BEGIN:STANDARD
TZOFFSETFROM:+0200
TZOFFSETTO:+0100
TZNAME:CET
DTSTART:20261025T010000
END:STANDARD
BEGIN:DAYLIGHT
TZOFFSETFROM:+0100
TZOFFSETTO:+0200
TZNAME:CEST
DTSTART:20270328T010000
END:DAYLIGHT
BEGIN:STANDARD
TZOFFSETFROM:+0200
TZOFFSETTO:+0100
TZNAME:CET
DTSTART:20271031T010000
END:STANDARD
END:VTIMEZONE
BEGIN:VEVENT
DTSTART;TZID=Europe/Berlin:20260220T054500
DTEND;TZID=Europe/Berlin:20260220T054500
DTSTAMP:20260420T031530
CREATED:20251231T082819Z
LAST-MODIFIED:20251231T173140Z
UID:28815-1771566300-1771566300@www.erc09.de
SUMMARY:Hochwasser
DESCRIPTION:Hochwasserzeiten für den Elmshorner Hafen Quelle: Bundesamt für Seeschifffahrt und Hydrographie (BSH)
URL:https://www.erc09.de/termin/hochwasser-2273/
CATEGORIES:Hochwasser
END:VEVENT
BEGIN:VEVENT
DTSTART;TZID=Europe/Berlin:20260220T093000
DTEND;TZID=Europe/Berlin:20260220T110000
DTSTAMP:20260420T031530
CREATED:20251101T171603Z
LAST-MODIFIED:20251102T072602Z
UID:28292-1771579800-1771585200@www.erc09.de
SUMMARY:Training Senioren
DESCRIPTION:Weitere Infos unter post@erc09.de
URL:https://www.erc09.de/termin/training-senioren-77/
CATEGORIES:Freizeit
END:VEVENT
BEGIN:VEVENT
DTSTART;TZID=Europe/Berlin:20260220T160000
DTEND;TZID=Europe/Berlin:20260220T173000
DTSTAMP:20260420T031530
CREATED:20251101T163043Z
LAST-MODIFIED:20251102T072602Z
UID:28244-1771603200-1771608600@www.erc09.de
SUMMARY:Jugendtraining (Kinder bis Jg. 2012)
DESCRIPTION:Kraft- und Ergotraining  Weitere Infos unter jugendsport@erc09.de
URL:https://www.erc09.de/termin/jugendtraining-kinder-bis-jg-2012-37/
CATEGORIES:Jugend
END:VEVENT
BEGIN:VEVENT
DTSTART;TZID=Europe/Berlin:20260220T173000
DTEND;TZID=Europe/Berlin:20260220T193000
DTSTAMP:20260420T031530
CREATED:20251101T163236Z
LAST-MODIFIED:20251102T072602Z
UID:28265-1771608600-1771615800@www.erc09.de
SUMMARY:Jugendtraining (Junior*innen A und B)
DESCRIPTION:Kraft- und Ergotraining  Weitere Infos unter jugendsport@erc09.de
URL:https://www.erc09.de/termin/jugendtraining-juniorinnen-a-und-b-58/
CATEGORIES:Jugend
END:VEVENT
BEGIN:VEVENT
DTSTART;TZID=Europe/Berlin:20260220T181200
DTEND;TZID=Europe/Berlin:20260220T181200
DTSTAMP:20260420T031530
CREATED:20251231T092626Z
LAST-MODIFIED:20251231T173140Z
UID:29169-1771611120-1771611120@www.erc09.de
SUMMARY:Hochwasser
DESCRIPTION:Hochwasserzeiten für den Elmshorner Hafen Quelle: Bundesamt für Seeschifffahrt und Hydrographie (BSH)
URL:https://www.erc09.de/termin/hochwasser-2627/
CATEGORIES:Hochwasser
END:VEVENT
END:VCALENDAR