BEGIN:VCALENDAR
VERSION:2.0
PRODID:-//Elmshorner Ruder-Club v. 1909 - ECPv6.15.20//NONSGML v1.0//EN
CALSCALE:GREGORIAN
METHOD:PUBLISH
X-ORIGINAL-URL:https://www.erc09.de
X-WR-CALDESC:Veranstaltungen für Elmshorner Ruder-Club v. 1909
REFRESH-INTERVAL;VALUE=DURATION:PT1H
X-Robots-Tag:noindex
X-PUBLISHED-TTL:PT1H
BEGIN:VTIMEZONE
TZID:Europe/Berlin
BEGIN:DAYLIGHT
TZOFFSETFROM:+0100
TZOFFSETTO:+0200
TZNAME:CEST
DTSTART:20250330T010000
END:DAYLIGHT
BEGIN:STANDARD
TZOFFSETFROM:+0200
TZOFFSETTO:+0100
TZNAME:CET
DTSTART:20251026T010000
END:STANDARD
BEGIN:DAYLIGHT
TZOFFSETFROM:+0100
TZOFFSETTO:+0200
TZNAME:CEST
DTSTART:20260329T010000
END:DAYLIGHT
BEGIN:STANDARD
TZOFFSETFROM:+0200
TZOFFSETTO:+0100
TZNAME:CET
DTSTART:20261025T010000
END:STANDARD
BEGIN:DAYLIGHT
TZOFFSETFROM:+0100
TZOFFSETTO:+0200
TZNAME:CEST
DTSTART:20270328T010000
END:DAYLIGHT
BEGIN:STANDARD
TZOFFSETFROM:+0200
TZOFFSETTO:+0100
TZNAME:CET
DTSTART:20271031T010000
END:STANDARD
END:VTIMEZONE
BEGIN:VEVENT
DTSTART;TZID=Europe/Berlin:20260210T060000
DTEND;TZID=Europe/Berlin:20260210T070000
DTSTAMP:20260420T014505
CREATED:20251101T155415Z
LAST-MODIFIED:20251102T072602Z
UID:27929-1770703200-1770706800@www.erc09.de
SUMMARY:offenes Training Jugend
DESCRIPTION:Ergotraining  Weitere Infos unter jugendsport@erc09.de
URL:https://www.erc09.de/termin/offenes-training-jugend-15/
CATEGORIES:Jugend
END:VEVENT
BEGIN:VEVENT
DTSTART;TZID=Europe/Berlin:20260210T090100
DTEND;TZID=Europe/Berlin:20260210T090100
DTSTAMP:20260420T014505
CREATED:20251231T082748Z
LAST-MODIFIED:20251231T173141Z
UID:28806-1770714060-1770714060@www.erc09.de
SUMMARY:Hochwasser
DESCRIPTION:Hochwasserzeiten für den Elmshorner Hafen Quelle: Bundesamt für Seeschifffahrt und Hydrographie (BSH)
URL:https://www.erc09.de/termin/hochwasser-2264/
CATEGORIES:Hochwasser
END:VEVENT
BEGIN:VEVENT
DTSTART;TZID=Europe/Berlin:20260210T093000
DTEND;TZID=Europe/Berlin:20260210T110000
DTSTAMP:20260420T014505
CREATED:20251101T155515Z
LAST-MODIFIED:20251102T072602Z
UID:27950-1770715800-1770721200@www.erc09.de
SUMMARY:Training Senioren
DESCRIPTION:Weitere Infos unter post@erc09.de
URL:https://www.erc09.de/termin/training-senioren-15/
CATEGORIES:Freizeit
END:VEVENT
BEGIN:VEVENT
DTSTART;TZID=Europe/Berlin:20260210T173000
DTEND;TZID=Europe/Berlin:20260210T190000
DTSTAMP:20260420T014505
CREATED:20251101T155815Z
LAST-MODIFIED:20251102T072602Z
UID:28011-1770744600-1770750000@www.erc09.de
SUMMARY:Dienstagssport
DESCRIPTION:Spiel
URL:https://www.erc09.de/termin/diensttagssport-15/
CATEGORIES:Jugend
END:VEVENT
BEGIN:VEVENT
DTSTART;TZID=Europe/Berlin:20260210T193000
DTEND;TZID=Europe/Berlin:20260210T210000
DTSTAMP:20260420T014505
CREATED:20251101T155915Z
LAST-MODIFIED:20251102T072602Z
UID:28032-1770751800-1770757200@www.erc09.de
SUMMARY:offenes Training Herren
DESCRIPTION:Kraft- und Ergotraining  Weitere Infos unter post@erc09.de
URL:https://www.erc09.de/termin/offenes-training-herren-15/
CATEGORIES:Freizeit
END:VEVENT
BEGIN:VEVENT
DTSTART;TZID=Europe/Berlin:20260210T212200
DTEND;TZID=Europe/Berlin:20260210T212200
DTSTAMP:20260420T014505
CREATED:20251231T092556Z
LAST-MODIFIED:20251231T173141Z
UID:29159-1770758520-1770758520@www.erc09.de
SUMMARY:Hochwasser
DESCRIPTION:Hochwasserzeiten für den Elmshorner Hafen Quelle: Bundesamt für Seeschifffahrt und Hydrographie (BSH)
URL:https://www.erc09.de/termin/hochwasser-2617/
CATEGORIES:Hochwasser
END:VEVENT
END:VCALENDAR