BEGIN:VCALENDAR
VERSION:2.0
PRODID:-//Elmshorner Ruder-Club v. 1909 - ECPv6.15.20//NONSGML v1.0//EN
CALSCALE:GREGORIAN
METHOD:PUBLISH
X-WR-CALNAME:Elmshorner Ruder-Club v. 1909
X-ORIGINAL-URL:https://www.erc09.de
X-WR-CALDESC:Veranstaltungen für Elmshorner Ruder-Club v. 1909
REFRESH-INTERVAL;VALUE=DURATION:PT1H
X-Robots-Tag:noindex
X-PUBLISHED-TTL:PT1H
BEGIN:VTIMEZONE
TZID:Europe/Berlin
BEGIN:DAYLIGHT
TZOFFSETFROM:+0100
TZOFFSETTO:+0200
TZNAME:CEST
DTSTART:20250330T010000
END:DAYLIGHT
BEGIN:STANDARD
TZOFFSETFROM:+0200
TZOFFSETTO:+0100
TZNAME:CET
DTSTART:20251026T010000
END:STANDARD
BEGIN:DAYLIGHT
TZOFFSETFROM:+0100
TZOFFSETTO:+0200
TZNAME:CEST
DTSTART:20260329T010000
END:DAYLIGHT
BEGIN:STANDARD
TZOFFSETFROM:+0200
TZOFFSETTO:+0100
TZNAME:CET
DTSTART:20261025T010000
END:STANDARD
BEGIN:DAYLIGHT
TZOFFSETFROM:+0100
TZOFFSETTO:+0200
TZNAME:CEST
DTSTART:20270328T010000
END:DAYLIGHT
BEGIN:STANDARD
TZOFFSETFROM:+0200
TZOFFSETTO:+0100
TZNAME:CET
DTSTART:20271031T010000
END:STANDARD
END:VTIMEZONE
BEGIN:VEVENT
DTSTART;TZID=Europe/Berlin:20260120T045000
DTEND;TZID=Europe/Berlin:20260120T045000
DTSTAMP:20260420T033003
CREATED:20251231T082648Z
LAST-MODIFIED:20251231T173142Z
UID:28785-1768884600-1768884600@www.erc09.de
SUMMARY:Hochwasser
DESCRIPTION:Hochwasserzeiten für den Elmshorner Hafen Quelle: Bundesamt für Seeschifffahrt und Hydrographie (BSH)
URL:https://www.erc09.de/termin/hochwasser-2243/
CATEGORIES:Hochwasser
END:VEVENT
BEGIN:VEVENT
DTSTART;TZID=Europe/Berlin:20260120T060000
DTEND;TZID=Europe/Berlin:20260120T070000
DTSTAMP:20260420T033003
CREATED:20251101T155400Z
LAST-MODIFIED:20251102T072603Z
UID:27926-1768888800-1768892400@www.erc09.de
SUMMARY:offenes Training Jugend
DESCRIPTION:Ergotraining  Weitere Infos unter jugendsport@erc09.de
URL:https://www.erc09.de/termin/offenes-training-jugend-12/
CATEGORIES:Jugend
END:VEVENT
BEGIN:VEVENT
DTSTART;TZID=Europe/Berlin:20260120T093000
DTEND;TZID=Europe/Berlin:20260120T110000
DTSTAMP:20260420T033003
CREATED:20251101T155500Z
LAST-MODIFIED:20251102T072603Z
UID:27947-1768901400-1768906800@www.erc09.de
SUMMARY:Training Senioren
DESCRIPTION:Weitere Infos unter post@erc09.de
URL:https://www.erc09.de/termin/training-senioren-12/
CATEGORIES:Freizeit
END:VEVENT
BEGIN:VEVENT
DTSTART;TZID=Europe/Berlin:20260120T171900
DTEND;TZID=Europe/Berlin:20260120T171900
DTSTAMP:20260420T033003
CREATED:20251231T092456Z
LAST-MODIFIED:20251231T173142Z
UID:29139-1768929540-1768929540@www.erc09.de
SUMMARY:Hochwasser
DESCRIPTION:Hochwasserzeiten für den Elmshorner Hafen Quelle: Bundesamt für Seeschifffahrt und Hydrographie (BSH)
URL:https://www.erc09.de/termin/hochwasser-2597/
CATEGORIES:Hochwasser
END:VEVENT
BEGIN:VEVENT
DTSTART;TZID=Europe/Berlin:20260120T173000
DTEND;TZID=Europe/Berlin:20260120T190000
DTSTAMP:20260420T033003
CREATED:20251101T155815Z
LAST-MODIFIED:20251102T072603Z
UID:28008-1768930200-1768935600@www.erc09.de
SUMMARY:Dienstagssport
DESCRIPTION:Spiel
URL:https://www.erc09.de/termin/diensttagssport-12/
CATEGORIES:Jugend
END:VEVENT
BEGIN:VEVENT
DTSTART;TZID=Europe/Berlin:20260120T193000
DTEND;TZID=Europe/Berlin:20260120T210000
DTSTAMP:20260420T033003
CREATED:20251101T155915Z
LAST-MODIFIED:20251102T072603Z
UID:28029-1768937400-1768942800@www.erc09.de
SUMMARY:offenes Training Herren
DESCRIPTION:Kraft- und Ergotraining  Weitere Infos unter post@erc09.de
URL:https://www.erc09.de/termin/offenes-training-herren-12/
CATEGORIES:Freizeit
END:VEVENT
END:VCALENDAR