BEGIN:VCALENDAR
VERSION:2.0
PRODID:-//Elmshorner Ruder-Club v. 1909 - ECPv6.15.20//NONSGML v1.0//EN
CALSCALE:GREGORIAN
METHOD:PUBLISH
X-ORIGINAL-URL:https://www.erc09.de
X-WR-CALDESC:Veranstaltungen für Elmshorner Ruder-Club v. 1909
REFRESH-INTERVAL;VALUE=DURATION:PT1H
X-Robots-Tag:noindex
X-PUBLISHED-TTL:PT1H
BEGIN:VTIMEZONE
TZID:Europe/Berlin
BEGIN:DAYLIGHT
TZOFFSETFROM:+0100
TZOFFSETTO:+0200
TZNAME:CEST
DTSTART:20250330T010000
END:DAYLIGHT
BEGIN:STANDARD
TZOFFSETFROM:+0200
TZOFFSETTO:+0100
TZNAME:CET
DTSTART:20251026T010000
END:STANDARD
BEGIN:DAYLIGHT
TZOFFSETFROM:+0100
TZOFFSETTO:+0200
TZNAME:CEST
DTSTART:20260329T010000
END:DAYLIGHT
BEGIN:STANDARD
TZOFFSETFROM:+0200
TZOFFSETTO:+0100
TZNAME:CET
DTSTART:20261025T010000
END:STANDARD
BEGIN:DAYLIGHT
TZOFFSETFROM:+0100
TZOFFSETTO:+0200
TZNAME:CEST
DTSTART:20270328T010000
END:DAYLIGHT
BEGIN:STANDARD
TZOFFSETFROM:+0200
TZOFFSETTO:+0100
TZNAME:CET
DTSTART:20271031T010000
END:STANDARD
END:VTIMEZONE
BEGIN:VEVENT
DTSTART;VALUE=DATE:20260116
DTEND;VALUE=DATE:20260119
DTSTAMP:20260420T033253
CREATED:20250910T131110Z
LAST-MODIFIED:20250910T131110Z
UID:27620-1768521600-1768780799@www.erc09.de
SUMMARY:Athletik TWE Ratzeburg
DESCRIPTION:Weitere Infos beim Team Leistungssport
URL:https://www.erc09.de/termin/athletik-twe-ratzeburg/
LOCATION:Ruderakademie des Deutschen Ruderverbandes\, Domhof 37\, Ratzeburg\, Schleswig-Holstein\, 23909\, Deutschland
CATEGORIES:Leistungssport
END:VEVENT
BEGIN:VEVENT
DTSTART;TZID=Europe/Berlin:20260116T014900
DTEND;TZID=Europe/Berlin:20260116T014900
DTSTAMP:20260420T033253
CREATED:20251231T082633Z
LAST-MODIFIED:20251231T173142Z
UID:28781-1768528140-1768528140@www.erc09.de
SUMMARY:Hochwasser
DESCRIPTION:Hochwasserzeiten für den Elmshorner Hafen Quelle: Bundesamt für Seeschifffahrt und Hydrographie (BSH)
URL:https://www.erc09.de/termin/hochwasser-2239/
CATEGORIES:Hochwasser
END:VEVENT
BEGIN:VEVENT
DTSTART;TZID=Europe/Berlin:20260116T093000
DTEND;TZID=Europe/Berlin:20260116T110000
DTSTAMP:20260420T033253
CREATED:20251101T163517Z
LAST-MODIFIED:20251102T072603Z
UID:28281-1768555800-1768561200@www.erc09.de
SUMMARY:Training Senioren
DESCRIPTION:Weitere Infos unter post@erc09.de
URL:https://www.erc09.de/termin/training-senioren-72/
CATEGORIES:Freizeit
END:VEVENT
BEGIN:VEVENT
DTSTART;TZID=Europe/Berlin:20260116T142400
DTEND;TZID=Europe/Berlin:20260116T142400
DTSTAMP:20260420T033253
CREATED:20251231T092441Z
LAST-MODIFIED:20251231T173142Z
UID:29135-1768573440-1768573440@www.erc09.de
SUMMARY:Hochwasser
DESCRIPTION:Hochwasserzeiten für den Elmshorner Hafen Quelle: Bundesamt für Seeschifffahrt und Hydrographie (BSH)
URL:https://www.erc09.de/termin/hochwasser-2593/
CATEGORIES:Hochwasser
END:VEVENT
BEGIN:VEVENT
DTSTART;TZID=Europe/Berlin:20260116T160000
DTEND;TZID=Europe/Berlin:20260116T173000
DTSTAMP:20260420T033253
CREATED:20251101T163027Z
LAST-MODIFIED:20251102T072603Z
UID:28239-1768579200-1768584600@www.erc09.de
SUMMARY:Jugendtraining (Kinder bis Jg. 2012)
DESCRIPTION:Kraft- und Ergotraining  Weitere Infos unter jugendsport@erc09.de
URL:https://www.erc09.de/termin/jugendtraining-kinder-bis-jg-2012-32/
CATEGORIES:Jugend
END:VEVENT
BEGIN:VEVENT
DTSTART;TZID=Europe/Berlin:20260116T173000
DTEND;TZID=Europe/Berlin:20260116T193000
DTSTAMP:20260420T033253
CREATED:20251101T163221Z
LAST-MODIFIED:20251102T072603Z
UID:28260-1768584600-1768591800@www.erc09.de
SUMMARY:Jugendtraining (Junior*innen A und B)
DESCRIPTION:Kraft- und Ergotraining  Weitere Infos unter jugendsport@erc09.de
URL:https://www.erc09.de/termin/jugendtraining-juniorinnen-a-und-b-53/
CATEGORIES:Jugend
END:VEVENT
END:VCALENDAR