BEGIN:VCALENDAR
VERSION:2.0
PRODID:-//Elmshorner Ruder-Club v. 1909 - ECPv6.15.20//NONSGML v1.0//EN
CALSCALE:GREGORIAN
METHOD:PUBLISH
X-WR-CALNAME:Elmshorner Ruder-Club v. 1909
X-ORIGINAL-URL:https://www.erc09.de
X-WR-CALDESC:Veranstaltungen für Elmshorner Ruder-Club v. 1909
REFRESH-INTERVAL;VALUE=DURATION:PT1H
X-Robots-Tag:noindex
X-PUBLISHED-TTL:PT1H
BEGIN:VTIMEZONE
TZID:Europe/Berlin
BEGIN:DAYLIGHT
TZOFFSETFROM:+0100
TZOFFSETTO:+0200
TZNAME:CEST
DTSTART:20250330T010000
END:DAYLIGHT
BEGIN:STANDARD
TZOFFSETFROM:+0200
TZOFFSETTO:+0100
TZNAME:CET
DTSTART:20251026T010000
END:STANDARD
BEGIN:DAYLIGHT
TZOFFSETFROM:+0100
TZOFFSETTO:+0200
TZNAME:CEST
DTSTART:20260329T010000
END:DAYLIGHT
BEGIN:STANDARD
TZOFFSETFROM:+0200
TZOFFSETTO:+0100
TZNAME:CET
DTSTART:20261025T010000
END:STANDARD
BEGIN:DAYLIGHT
TZOFFSETFROM:+0100
TZOFFSETTO:+0200
TZNAME:CEST
DTSTART:20270328T010000
END:DAYLIGHT
BEGIN:STANDARD
TZOFFSETFROM:+0200
TZOFFSETTO:+0100
TZNAME:CET
DTSTART:20271031T010000
END:STANDARD
END:VTIMEZONE
BEGIN:VEVENT
DTSTART;TZID=Europe/Berlin:20260115T004300
DTEND;TZID=Europe/Berlin:20260115T004300
DTSTAMP:20260420T050010
CREATED:20251231T082633Z
LAST-MODIFIED:20251231T173142Z
UID:28780-1768437780-1768437780@www.erc09.de
SUMMARY:Hochwasser
DESCRIPTION:Hochwasserzeiten für den Elmshorner Hafen Quelle: Bundesamt für Seeschifffahrt und Hydrographie (BSH)
URL:https://www.erc09.de/termin/hochwasser-2238/
CATEGORIES:Hochwasser
END:VEVENT
BEGIN:VEVENT
DTSTART;TZID=Europe/Berlin:20260115T060000
DTEND;TZID=Europe/Berlin:20260115T070000
DTSTAMP:20260420T050010
CREATED:20251101T162613Z
LAST-MODIFIED:20251102T072603Z
UID:28157-1768456800-1768460400@www.erc09.de
SUMMARY:offenes Training Jugend
DESCRIPTION:Ergotraining  Weitere Infos unter jugendsport@erc09.de
URL:https://www.erc09.de/termin/offenes-training-jugend-32/
CATEGORIES:Jugend
END:VEVENT
BEGIN:VEVENT
DTSTART;TZID=Europe/Berlin:20260115T131900
DTEND;TZID=Europe/Berlin:20260115T131900
DTSTAMP:20260420T050010
CREATED:20251231T092441Z
LAST-MODIFIED:20251231T173142Z
UID:29134-1768483140-1768483140@www.erc09.de
SUMMARY:Hochwasser
DESCRIPTION:Hochwasserzeiten für den Elmshorner Hafen Quelle: Bundesamt für Seeschifffahrt und Hydrographie (BSH)
URL:https://www.erc09.de/termin/hochwasser-2592/
CATEGORIES:Hochwasser
END:VEVENT
BEGIN:VEVENT
DTSTART;TZID=Europe/Berlin:20260115T193000
DTEND;TZID=Europe/Berlin:20260115T213000
DTSTAMP:20260420T050010
CREATED:20251101T162728Z
LAST-MODIFIED:20251102T072603Z
UID:28178-1768505400-1768512600@www.erc09.de
SUMMARY:Training Masters
DESCRIPTION:Kraft- und Ergotraining  Weitere Infos unter post@erc09.de
URL:https://www.erc09.de/termin/training-masters-11/
CATEGORIES:Freizeit
END:VEVENT
END:VCALENDAR