BEGIN:VCALENDAR
VERSION:2.0
PRODID:-//Elmshorner Ruder-Club v. 1909 - ECPv6.15.20//NONSGML v1.0//EN
CALSCALE:GREGORIAN
METHOD:PUBLISH
X-WR-CALNAME:Elmshorner Ruder-Club v. 1909
X-ORIGINAL-URL:https://www.erc09.de
X-WR-CALDESC:Veranstaltungen für Elmshorner Ruder-Club v. 1909
REFRESH-INTERVAL;VALUE=DURATION:PT1H
X-Robots-Tag:noindex
X-PUBLISHED-TTL:PT1H
BEGIN:VTIMEZONE
TZID:Europe/Berlin
BEGIN:DAYLIGHT
TZOFFSETFROM:+0100
TZOFFSETTO:+0200
TZNAME:CEST
DTSTART:20250330T010000
END:DAYLIGHT
BEGIN:STANDARD
TZOFFSETFROM:+0200
TZOFFSETTO:+0100
TZNAME:CET
DTSTART:20251026T010000
END:STANDARD
BEGIN:DAYLIGHT
TZOFFSETFROM:+0100
TZOFFSETTO:+0200
TZNAME:CEST
DTSTART:20260329T010000
END:DAYLIGHT
BEGIN:STANDARD
TZOFFSETFROM:+0200
TZOFFSETTO:+0100
TZNAME:CET
DTSTART:20261025T010000
END:STANDARD
BEGIN:DAYLIGHT
TZOFFSETFROM:+0100
TZOFFSETTO:+0200
TZNAME:CEST
DTSTART:20270328T010000
END:DAYLIGHT
BEGIN:STANDARD
TZOFFSETFROM:+0200
TZOFFSETTO:+0100
TZNAME:CET
DTSTART:20271031T010000
END:STANDARD
END:VTIMEZONE
BEGIN:VEVENT
DTSTART;TZID=Europe/Berlin:20260113T060000
DTEND;TZID=Europe/Berlin:20260113T070000
DTSTAMP:20260420T033159
CREATED:20251101T155400Z
LAST-MODIFIED:20251102T072603Z
UID:27925-1768284000-1768287600@www.erc09.de
SUMMARY:offenes Training Jugend
DESCRIPTION:Ergotraining  Weitere Infos unter jugendsport@erc09.de
URL:https://www.erc09.de/termin/offenes-training-jugend-11/
CATEGORIES:Jugend
END:VEVENT
BEGIN:VEVENT
DTSTART;TZID=Europe/Berlin:20260113T093000
DTEND;TZID=Europe/Berlin:20260113T110000
DTSTAMP:20260420T033159
CREATED:20251101T155500Z
LAST-MODIFIED:20251102T072603Z
UID:27946-1768296600-1768302000@www.erc09.de
SUMMARY:Training Senioren
DESCRIPTION:Weitere Infos unter post@erc09.de
URL:https://www.erc09.de/termin/training-senioren-11/
CATEGORIES:Freizeit
END:VEVENT
BEGIN:VEVENT
DTSTART;TZID=Europe/Berlin:20260113T105700
DTEND;TZID=Europe/Berlin:20260113T105700
DTSTAMP:20260420T033159
CREATED:20251231T082632Z
LAST-MODIFIED:20251231T173142Z
UID:28779-1768301820-1768301820@www.erc09.de
SUMMARY:Hochwasser
DESCRIPTION:Hochwasserzeiten für den Elmshorner Hafen Quelle: Bundesamt für Seeschifffahrt und Hydrographie (BSH)
URL:https://www.erc09.de/termin/hochwasser-2237/
CATEGORIES:Hochwasser
END:VEVENT
BEGIN:VEVENT
DTSTART;TZID=Europe/Berlin:20260113T173000
DTEND;TZID=Europe/Berlin:20260113T190000
DTSTAMP:20260420T033159
CREATED:20251101T155800Z
LAST-MODIFIED:20251102T072603Z
UID:28007-1768325400-1768330800@www.erc09.de
SUMMARY:Dienstagssport
DESCRIPTION:Spiel
URL:https://www.erc09.de/termin/diensttagssport-11/
CATEGORIES:Jugend
END:VEVENT
BEGIN:VEVENT
DTSTART;TZID=Europe/Berlin:20260113T193000
DTEND;TZID=Europe/Berlin:20260113T210000
DTSTAMP:20260420T033159
CREATED:20251101T155915Z
LAST-MODIFIED:20251102T072603Z
UID:28028-1768332600-1768338000@www.erc09.de
SUMMARY:offenes Training Herren
DESCRIPTION:Kraft- und Ergotraining  Weitere Infos unter post@erc09.de
URL:https://www.erc09.de/termin/offenes-training-herren-11/
CATEGORIES:Freizeit
END:VEVENT
BEGIN:VEVENT
DTSTART;TZID=Europe/Berlin:20260113T233300
DTEND;TZID=Europe/Berlin:20260113T233300
DTSTAMP:20260420T033159
CREATED:20251231T092440Z
LAST-MODIFIED:20251231T173142Z
UID:29132-1768347180-1768347180@www.erc09.de
SUMMARY:Hochwasser
DESCRIPTION:Hochwasserzeiten für den Elmshorner Hafen Quelle: Bundesamt für Seeschifffahrt und Hydrographie (BSH)
URL:https://www.erc09.de/termin/hochwasser-2590/
CATEGORIES:Hochwasser
END:VEVENT
END:VCALENDAR